FILENAME: O4510828.SWS.1007350.tif
QUADRANGLE_NAME: STRATFORD HILL
QUADRANT: SW
WEST_LONGITUDE: -108 37 30.00000
EAST_LONGITUDE: -108 33 45.00000
NORTH_LATITUDE: 45 33 45.00000
SOUTH_LATITUDE: 45 30 0.00000
PRODUCTION_DATE: 1999 4 2
RASTER_ORDER: LEFT_RIGHT/TOP_BOTTOM
BAND_ORGANIZATION: SINGLE FILE
BAND_CONTENT: BLACK&WHITE
BAND_CONTENT: UNDEFINED
BAND_CONTENT: UNDEFINED
BITS_PER_PIXEL: 8
SAMPLES_AND_LINES: 5746 7700
HORIZONTAL_DATUM: NAD83
HORIZONTAL_COORDINATE_SYSTEM: UTM
COORDINATE_ZONE: 12
HORIZONTAL_UNITS: METERS
HORIZONTAL_RESOLUTION: 1.00000
SECONDARY_HORIZONTAL_DATUM: NAD27
XY_ORIGIN: 684989.00000 5048631.00000
SECONDARY_XY_ORIGIN: 685048.39000 5048420.45500
NATION: US
NATION: "SCIENCE
STATE: MT
NW_QUAD_CORNER_XY: 685344.78100 5048183.72000
NE_QUAD_CORNER_XY: 690222.22100 5048330.06400
SE_QUAD_CORNERY_XY: 690433.15100 5041386.56700
SW_QUAD_CORNER_XY: 685550.29600 5041240.21700
SECONDARY_NW_QUAD_XY: 685350.32000 5047966.14500
SECONDARY_NE_QUAD_XY: 690227.90600 5048112.49300
SECONDARY_SE_QUAD_XY: 690438.83500 5041169.04500
SECONDARY_SW_QUAD_XY: 685555.83400 5041022.69100
RMSE_XY: 2.30000
IMAGE_SOURCE: BLACK AND WHITE FILM
SOURCE_IMAGE_ID: NAPP 9138 248
SOURCE_IMAGE_DATE: 1996 08 23
SOURCE_IMAGE_ID: NAPP 9138 247
SOURCE_IMAGE_DATE: 1996 08 23
SOURCE_DEM_DATE: 1998 00 00
AGENCY: WESTERN MAPPING CENTER (WMC)
PRODUCER: UNDEFINED
PRODUCTION_SYSTEM: GIS/MAGIC
COMPRESSION: UNDEFINED
STANDARD_VERSION: 1996 12
METADATA_DATE: 1999 04 28
DATA_FILE_SIZE: 44249946
BYTE_COUNT: 5746
