FILENAME: O4510829.SWS.1007365.tif
QUADRANGLE_NAME: VALE CREEK RANCH
QUADRANT: SW
WEST_LONGITUDE: -108 30 0.00000
EAST_LONGITUDE: -108 26 15.00000
NORTH_LATITUDE: 45 33 45.00000
SOUTH_LATITUDE: 45 30 0.00000
PRODUCTION_DATE: 1999 4 6
RASTER_ORDER: LEFT_RIGHT/TOP_BOTTOM
BAND_ORGANIZATION: SINGLE FILE
BAND_CONTENT: BLACK&WHITE
BAND_CONTENT: UNDEFINED
BAND_CONTENT: UNDEFINED
BITS_PER_PIXEL: 8
SAMPLES_AND_LINES: 5755 7708
HORIZONTAL_DATUM: NAD83
HORIZONTAL_COORDINATE_SYSTEM: UTM
COORDINATE_ZONE: 12
HORIZONTAL_UNITS: METERS
HORIZONTAL_RESOLUTION: 1.00000
SECONDARY_HORIZONTAL_DATUM: NAD27
XY_ORIGIN: 694745.00000 5048935.00000
SECONDARY_XY_ORIGIN: 694804.29600 5048724.36100
NATION: US
NATION: "SCIENCE
STATE: MT
NW_QUAD_CORNER_XY: 695099.65700 5048480.21300
NE_QUAD_CORNER_XY: 699977.08900 5048634.16800
SE_QUAD_CORNERY_XY: 700198.84900 5041690.68300
SW_QUAD_CORNER_XY: 695316.00200 5041536.72200
SECONDARY_NW_QUAD_XY: 695105.48800 5048262.64700
SECONDARY_NE_QUAD_XY: 699983.06500 5048416.60700
SECONDARY_SE_QUAD_XY: 700204.82500 5041473.17000
SECONDARY_SW_QUAD_XY: 695321.83200 5041319.20400
RMSE_XY: 1.60000
IMAGE_SOURCE: BLACK AND WHITE FILM
SOURCE_IMAGE_ID: NAPP 9137 240
SOURCE_IMAGE_DATE: 1996 08 23
SOURCE_IMAGE_ID: NAPP 9138 023
SOURCE_IMAGE_DATE: 1996 08 23
SOURCE_IMAGE_ID: NAPP 9137 241
SOURCE_IMAGE_DATE: 1996 08 23
SOURCE_IMAGE_ID: NAPP 9137 239
SOURCE_IMAGE_DATE: 1996 08 23
SOURCE_DEM_DATE: 1997 01 01
AGENCY: WESTERN MAPPING CENTER (WMC)
PRODUCER: UNDEFINED
PRODUCTION_SYSTEM: GIS/MAGIC
COMPRESSION: UNDEFINED
STANDARD_VERSION: 1996 12
METADATA_DATE: 1999 04 28
DATA_FILE_SIZE: 44365295
BYTE_COUNT: 5755
