FILENAME: O4510829.NWS.1007359.tif
QUADRANGLE_NAME: VALE CREEK RANCH
QUADRANT: NW
WEST_LONGITUDE: -108 30 0.00000
EAST_LONGITUDE: -108 26 15.00000
NORTH_LATITUDE: 45 37 30.00000
SOUTH_LATITUDE: 45 33 45.00000
PRODUCTION_DATE: 1999 4 6
RASTER_ORDER: LEFT_RIGHT/TOP_BOTTOM
BAND_ORGANIZATION: SINGLE FILE
BAND_CONTENT: BLACK&WHITE
BAND_CONTENT: UNDEFINED
BAND_CONTENT: UNDEFINED
BITS_PER_PIXEL: 8
SAMPLES_AND_LINES: 5751 7707
HORIZONTAL_DATUM: NAD83
HORIZONTAL_COORDINATE_SYSTEM: UTM
COORDINATE_ZONE: 12
HORIZONTAL_UNITS: METERS
HORIZONTAL_RESOLUTION: 1.00000
SECONDARY_HORIZONTAL_DATUM: NAD27
XY_ORIGIN: 694528.00000 5055878.00000
SECONDARY_XY_ORIGIN: 694587.31600 5055667.34900
NATION: US
NATION: "SCIENCE
STATE: MT
NW_QUAD_CORNER_XY: 694883.07900 5055423.76600
NE_QUAD_CORNER_XY: 699755.08900 5055577.71500
SE_QUAD_CORNERY_XY: 699977.08900 5048634.16800
SW_QUAD_CORNER_XY: 695099.65700 5048480.21300
SECONDARY_NW_QUAD_XY: 694888.91100 5055206.15300
SECONDARY_NE_QUAD_XY: 699761.06700 5055360.10600
SECONDARY_SE_QUAD_XY: 699983.06500 5048416.60700
SECONDARY_SW_QUAD_XY: 695105.48800 5048262.64700
RMSE_XY: 2.00000
IMAGE_SOURCE: BLACK AND WHITE FILM
SOURCE_IMAGE_ID: NAPP 9137 238
SOURCE_IMAGE_DATE: 1996 08 23
SOURCE_IMAGE_ID: NAPP 9137 237
SOURCE_IMAGE_DATE: 1996 08 23
SOURCE_DEM_DATE: 1997 01 01
AGENCY: WESTERN MAPPING CENTER (WMC)
PRODUCER: UNDEFINED
PRODUCTION_SYSTEM: GIS/MAGIC
COMPRESSION: UNDEFINED
STANDARD_VERSION: 1996 12
METADATA_DATE: 1999 04 28
DATA_FILE_SIZE: 44328708
BYTE_COUNT: 5751
