FILENAME: O4510829.NES.1007357.tif
QUADRANGLE_NAME: VALE CREEK RANCH
QUADRANT: NE
WEST_LONGITUDE: -108 26 15.00000
EAST_LONGITUDE: -108 22 30.00000
NORTH_LATITUDE: 45 37 30.00000
SOUTH_LATITUDE: 45 33 45.00000
PRODUCTION_DATE: 1999 4 16
RASTER_ORDER: LEFT_RIGHT/TOP_BOTTOM
BAND_ORGANIZATION: SINGLE FILE
BAND_CONTENT: BLACK&WHITE
BAND_CONTENT: UNDEFINED
BAND_CONTENT: UNDEFINED
BITS_PER_PIXEL: 8
SAMPLES_AND_LINES: 5756 7711
HORIZONTAL_DATUM: NAD83
HORIZONTAL_COORDINATE_SYSTEM: UTM
COORDINATE_ZONE: 12
HORIZONTAL_UNITS: METERS
HORIZONTAL_RESOLUTION: 1.00000
SECONDARY_HORIZONTAL_DATUM: NAD27
XY_ORIGIN: 699400.00000 5056036.00000
SECONDARY_XY_ORIGIN: 699459.34200 5055825.31600
NATION: US
NATION: "SCIENCE
STATE: MT
NW_QUAD_CORNER_XY: 699755.08900 5055577.71500
NE_QUAD_CORNER_XY: 704627.09400 5055735.47000
SE_QUAD_CORNERY_XY: 704854.51600 5048791.93000
SW_QUAD_CORNER_XY: 699977.08900 5048634.16800
SECONDARY_NW_QUAD_XY: 699761.06700 5055360.10600
SECONDARY_NE_QUAD_XY: 704633.21800 5055517.86600
SECONDARY_SE_QUAD_XY: 704860.63800 5048574.37400
SECONDARY_SW_QUAD_XY: 699983.06500 5048416.60700
RMSE_XY: 3.10000
IMAGE_SOURCE: BLACK AND WHITE FILM
SOURCE_IMAGE_ID: NAPP 9137 131
SOURCE_IMAGE_DATE: 1996 08 23
SOURCE_IMAGE_ID: NAPP 9137 130
SOURCE_IMAGE_DATE: 1996 08 23
SOURCE_IMAGE_ID: NAPP 9137 132
SOURCE_IMAGE_DATE: 1996 08 23
SOURCE_DEM_DATE: 1997 01 01
AGENCY: WESTERN MAPPING CENTER (WMC)
PRODUCER: UNDEFINED
PRODUCTION_SYSTEM: GIS/MAGIC
COMPRESSION: UNDEFINED
STANDARD_VERSION: 1996 12
METADATA_DATE: 1999 04 28
DATA_FILE_SIZE: 44390272
BYTE_COUNT: 5756
