FILENAME: O4510831.NWS.1006955.tif
QUADRANGLE_NAME: WOODY MOUNTAIN
QUADRANT: NW
WEST_LONGITUDE: -108 15 0.00000
EAST_LONGITUDE: -108 11 15.00000
NORTH_LATITUDE: 45 37 30.00000
SOUTH_LATITUDE: 45 33 45.00000
PRODUCTION_DATE: 1999 4 6
RASTER_ORDER: LEFT_RIGHT/TOP_BOTTOM
BAND_ORGANIZATION: SINGLE FILE
BAND_CONTENT: BLACK&WHITE
BAND_CONTENT: UNDEFINED
BAND_CONTENT: UNDEFINED
BITS_PER_PIXEL: 8
SAMPLES_AND_LINES: 5771 7722
HORIZONTAL_DATUM: NAD83
HORIZONTAL_COORDINATE_SYSTEM: UTM
COORDINATE_ZONE: 12
HORIZONTAL_UNITS: METERS
HORIZONTAL_RESOLUTION: 1.00000
SECONDARY_HORIZONTAL_DATUM: NAD27
XY_ORIGIN: 714017.00000 5056532.00000
SECONDARY_XY_ORIGIN: 714076.41700 5056321.20600
NATION: US
NATION: "SCIENCE
STATE: MT
NW_QUAD_CORNER_XY: 714371.08900 5056062.39900
NE_QUAD_CORNER_XY: 719243.07800 5056231.57500
SE_QUAD_CORNERY_XY: 719486.76900 5049288.05700
SW_QUAD_CORNER_XY: 714609.35600 5049118.87400
SECONDARY_NW_QUAD_XY: 714377.50400 5055844.80500
SECONDARY_NE_QUAD_XY: 719249.64000 5056013.98600
SECONDARY_SE_QUAD_XY: 719493.32900 5049070.51600
SECONDARY_SW_QUAD_XY: 714615.77000 5048901.32800
RMSE_XY: 2.10000
IMAGE_SOURCE: BLACK AND WHITE FILM
SOURCE_IMAGE_ID: NAPP 9146 057
SOURCE_IMAGE_DATE: 1996 08 24
SOURCE_IMAGE_ID: NAPP 9146 056
SOURCE_IMAGE_DATE: 1996 08 24
SOURCE_DEM_DATE: 1998 00 00
AGENCY: WESTERN MAPPING CENTER (WMC)
PRODUCER: UNDEFINED
PRODUCTION_SYSTEM: GIS/MAGIC
COMPRESSION: UNDEFINED
STANDARD_VERSION: 1996 12
METADATA_DATE: 1999 04 30
DATA_FILE_SIZE: 44569433
BYTE_COUNT: 5771
