FILENAME: O4510832.SES.1007030.tif
QUADRANGLE_NAME: WOODY MOUNTAIN SE
QUADRANT: SE
WEST_LONGITUDE: -108 3 45.00000
EAST_LONGITUDE: -108 0 0.00000
NORTH_LATITUDE: 45 33 45.00000
SOUTH_LATITUDE: 45 30 0.00000
PRODUCTION_DATE: 1999 4 8
RASTER_ORDER: LEFT_RIGHT/TOP_BOTTOM
BAND_ORGANIZATION: SINGLE FILE
BAND_CONTENT: BLACK&WHITE
BAND_CONTENT: UNDEFINED
BAND_CONTENT: UNDEFINED
BITS_PER_PIXEL: 8
SAMPLES_AND_LINES: 5792 7734
HORIZONTAL_DATUM: NAD83
HORIZONTAL_COORDINATE_SYSTEM: UTM
COORDINATE_ZONE: 12
HORIZONTAL_UNITS: METERS
HORIZONTAL_RESOLUTION: 1.00000
SECONDARY_HORIZONTAL_DATUM: NAD27
XY_ORIGIN: 728888.00000 5050119.00000
SECONDARY_XY_ORIGIN: 728947.29000 5049908.09600
NATION: US
NATION: "SCIENCE
STATE: MT
NW_QUAD_CORNER_XY: 729241.57900 5049637.84800
NE_QUAD_CORNER_XY: 734118.97600 5049818.45600
SE_QUAD_CORNERY_XY: 734378.66200 5042875.01700
SW_QUAD_CORNER_XY: 729495.84500 5042694.40200
SECONDARY_NW_QUAD_XY: 729248.43100 5049420.31700
SECONDARY_NE_QUAD_XY: 734125.97400 5049600.93000
SECONDARY_SE_QUAD_XY: 734385.65700 5042657.53900
SECONDARY_SW_QUAD_XY: 729502.69500 5042476.91900
RMSE_XY: 1.30000
IMAGE_SOURCE: BLACK AND WHITE FILM
SOURCE_IMAGE_ID: NAPP 9142 039
SOURCE_IMAGE_DATE: 1996 08 24
SOURCE_IMAGE_ID: NAPP 9142 040
SOURCE_IMAGE_DATE: 1996 08 24
SOURCE_DEM_DATE: 1998 00 00
AGENCY: WESTERN MAPPING CENTER (WMC)
PRODUCER: UNDEFINED
PRODUCTION_SYSTEM: GIS/MAGIC
COMPRESSION: UNDEFINED
STANDARD_VERSION: 1996 12
METADATA_DATE: 1999 04 28
DATA_FILE_SIZE: 44801120
BYTE_COUNT: 5792
