FILENAME: O4510834.NES.1007226.tif
QUADRANGLE_NAME: EDGAR
QUADRANT: NE
WEST_LONGITUDE: -108 48 45.00000
EAST_LONGITUDE: -108 45 0.00000
NORTH_LATITUDE: 45 30 0.00000
SOUTH_LATITUDE: 45 26 15.00000
PRODUCTION_DATE: 1999 4 2
RASTER_ORDER: LEFT_RIGHT/TOP_BOTTOM
BAND_ORGANIZATION: SINGLE FILE
BAND_CONTENT: BLACK&WHITE
BAND_CONTENT: UNDEFINED
BAND_CONTENT: UNDEFINED
BITS_PER_PIXEL: 8
SAMPLES_AND_LINES: 5735 7688
HORIZONTAL_DATUM: NAD83
HORIZONTAL_COORDINATE_SYSTEM: UTM
COORDINATE_ZONE: 12
HORIZONTAL_UNITS: METERS
HORIZONTAL_RESOLUTION: 1.00000
SECONDARY_HORIZONTAL_DATUM: NAD27
XY_ORIGIN: 670546.00000 5041259.00000
SECONDARY_XY_ORIGIN: 670605.51500 5041048.65300
NATION: US
NATION: "SCIENCE
STATE: MT
NW_QUAD_CORNER_XY: 670901.71000 5040824.00100
NE_QUAD_CORNER_XY: 675784.57500 5040958.93500
SE_QUAD_CORNERY_XY: 675979.05300 5034015.48600
SW_QUAD_CORNER_XY: 671090.78000 5033880.54700
SECONDARY_NW_QUAD_XY: 670906.81000 5040606.46200
SECONDARY_NE_QUAD_XY: 675789.82200 5040741.40000
SECONDARY_SE_QUAD_XY: 675984.29700 5033798.00000
SECONDARY_SW_QUAD_XY: 671095.87900 5033663.05800
RMSE_XY: 1.70000
IMAGE_SOURCE: BLACK AND WHITE FILM
SOURCE_IMAGE_ID: NAPP 9141 022
SOURCE_IMAGE_DATE: 1996 08 23
SOURCE_IMAGE_ID: NAPP 9147 021
SOURCE_IMAGE_DATE: 1996 08 24
SOURCE_IMAGE_ID: NAPP 9141 021
SOURCE_IMAGE_DATE: 1996 08 23
SOURCE_IMAGE_ID: NAPP 9141 023
SOURCE_IMAGE_DATE: 1996 08 23
SOURCE_IMAGE_ID: NAPP 9140 105
SOURCE_IMAGE_DATE: 1996 08 23
SOURCE_DEM_DATE: 1998 00 00
AGENCY: WESTERN MAPPING CENTER (WMC)
PRODUCER: UNDEFINED
PRODUCTION_SYSTEM: GIS/MAGIC
COMPRESSION: UNDEFINED
STANDARD_VERSION: 1996 12
METADATA_DATE: 1999 04 28
DATA_FILE_SIZE: 44096415
BYTE_COUNT: 5735
