FILENAME: O4510838.SES.1006923.tif
QUADRANGLE_NAME: CHILKOOT COULEE
QUADRANT: SE
WEST_LONGITUDE: -108 18 45.00000
EAST_LONGITUDE: -108 15 0.00000
NORTH_LATITUDE: 45 26 15.00000
SOUTH_LATITUDE: 45 22 30.00000
PRODUCTION_DATE: 1999 4 5
RASTER_ORDER: LEFT_RIGHT/TOP_BOTTOM
BAND_ORGANIZATION: SINGLE FILE
BAND_CONTENT: BLACK&WHITE
BAND_CONTENT: UNDEFINED
BAND_CONTENT: UNDEFINED
BITS_PER_PIXEL: 8
SAMPLES_AND_LINES: 5782 7719
HORIZONTAL_DATUM: NAD83
HORIZONTAL_COORDINATE_SYSTEM: UTM
COORDINATE_ZONE: 12
HORIZONTAL_UNITS: METERS
HORIZONTAL_RESOLUTION: 1.00000
SECONDARY_HORIZONTAL_DATUM: NAD27
XY_ORIGIN: 709842.00000 5035533.00000
SECONDARY_XY_ORIGIN: 709901.25200 5035322.23100
NATION: US
NATION: "SCIENCE
STATE: MT
NW_QUAD_CORNER_XY: 710196.87400 5035066.61200
NE_QUAD_CORNER_XY: 715085.12000 5035232.00000
SE_QUAD_CORNERY_XY: 715322.61700 5028288.65100
SW_QUAD_CORNER_XY: 710428.96500 5028123.25900
SECONDARY_NW_QUAD_XY: 710203.13900 5034849.15800
SECONDARY_NE_QUAD_XY: 715091.53100 5035014.55100
SECONDARY_SE_QUAD_XY: 715329.02600 5028071.25200
SECONDARY_SW_QUAD_XY: 710435.22800 5027905.85400
RMSE_XY: 1.90000
IMAGE_SOURCE: BLACK AND WHITE FILM
SOURCE_IMAGE_ID: NAPP 9134 016
SOURCE_IMAGE_DATE: 1996 08 10
SOURCE_IMAGE_ID: NAPP 9137 098
SOURCE_IMAGE_DATE: 1996 08 23
SOURCE_IMAGE_ID: NAPP 9134 015
SOURCE_IMAGE_DATE: 1996 08 10
SOURCE_IMAGE_ID: NAPP 9134 017
SOURCE_IMAGE_DATE: 1996 08 10
SOURCE_IMAGE_ID: NAPP 9146 062
SOURCE_IMAGE_DATE: 1996 08 24
SOURCE_DEM_DATE: 1998 00 00
AGENCY: WESTERN MAPPING CENTER (WMC)
PRODUCER: UNDEFINED
PRODUCTION_SYSTEM: GIS/MAGIC
COMPRESSION: UNDEFINED
STANDARD_VERSION: 1996 12
METADATA_DATE: 1999 04 30
DATA_FILE_SIZE: 44637040
BYTE_COUNT: 5782
