FILENAME: O4510840.NWS.1007033.tif
QUADRANGLE_NAME: MOTT CREEK
QUADRANT: NW
WEST_LONGITUDE: -108 7 30.00000
EAST_LONGITUDE: -108 3 45.00000
NORTH_LATITUDE: 45 30 0.00000
SOUTH_LATITUDE: 45 26 15.00000
PRODUCTION_DATE: 1999 4 6
RASTER_ORDER: LEFT_RIGHT/TOP_BOTTOM
BAND_ORGANIZATION: SINGLE FILE
BAND_CONTENT: BLACK&WHITE
BAND_CONTENT: UNDEFINED
BAND_CONTENT: UNDEFINED
BITS_PER_PIXEL: 8
SAMPLES_AND_LINES: 5792 7730
HORIZONTAL_DATUM: NAD83
HORIZONTAL_COORDINATE_SYSTEM: UTM
COORDINATE_ZONE: 12
HORIZONTAL_UNITS: METERS
HORIZONTAL_RESOLUTION: 1.00000
SECONDARY_HORIZONTAL_DATUM: NAD27
XY_ORIGIN: 724259.00000 5042995.00000
SECONDARY_XY_ORIGIN: 724318.28800 5042784.14100
NATION: US
NATION: "SCIENCE
STATE: MT
NW_QUAD_CORNER_XY: 724613.02300 5042517.59500
NE_QUAD_CORNER_XY: 729495.84500 5042694.40200
SE_QUAD_CORNERY_XY: 729749.83600 5035751.01200
SW_QUAD_CORNER_XY: 724861.60100 5035574.20000
SECONDARY_NW_QUAD_XY: 724619.72700 5042300.10700
SECONDARY_NE_QUAD_XY: 729502.69500 5042476.91900
SECONDARY_SE_QUAD_XY: 729756.68400 5035533.57800
SECONDARY_SW_QUAD_XY: 724868.30400 5035356.76100
RMSE_XY: 2.10000
IMAGE_SOURCE: BLACK AND WHITE FILM
SOURCE_IMAGE_ID: NAPP 9142 266
SOURCE_IMAGE_DATE: 1996 08 24
SOURCE_IMAGE_ID: NAPP 9142 268
SOURCE_IMAGE_DATE: 1996 08 24
SOURCE_IMAGE_ID: NAPP 9142 265
SOURCE_IMAGE_DATE: 1996 08 24
SOURCE_IMAGE_ID: NAPP 9142 037
SOURCE_IMAGE_DATE: 1996 08 24
SOURCE_DEM_DATE: 1969 00 00
AGENCY: WESTERN MAPPING CENTER (WMC)
PRODUCER: UNDEFINED
PRODUCTION_SYSTEM: GIS/MAGIC
COMPRESSION: UNDEFINED
STANDARD_VERSION: 1996 12
METADATA_DATE: 1999 04 28
DATA_FILE_SIZE: 44777952
BYTE_COUNT: 5792
