FILENAME: O4510840.NES.1007032.tif
QUADRANGLE_NAME: MOTT CREEK
QUADRANT: NE
WEST_LONGITUDE: -108 3 45.00000
EAST_LONGITUDE: -108 0 0.00000
NORTH_LATITUDE: 45 30 0.00000
SOUTH_LATITUDE: 45 26 15.00000
PRODUCTION_DATE: 1999 4 6
RASTER_ORDER: LEFT_RIGHT/TOP_BOTTOM
BAND_ORGANIZATION: SINGLE FILE
BAND_CONTENT: BLACK&WHITE
BAND_CONTENT: UNDEFINED
BAND_CONTENT: UNDEFINED
BITS_PER_PIXEL: 8
SAMPLES_AND_LINES: 5798 7734
HORIZONTAL_DATUM: NAD83
HORIZONTAL_COORDINATE_SYSTEM: UTM
COORDINATE_ZONE: 12
HORIZONTAL_UNITS: METERS
HORIZONTAL_RESOLUTION: 1.00000
SECONDARY_HORIZONTAL_DATUM: NAD27
XY_ORIGIN: 729142.00000 5043176.00000
SECONDARY_XY_ORIGIN: 729201.28600 5042965.15400
NATION: US
NATION: "SCIENCE
STATE: MT
NW_QUAD_CORNER_XY: 729495.84500 5042694.40200
NE_QUAD_CORNER_XY: 734378.66200 5042875.01700
SE_QUAD_CORNERY_XY: 734638.06600 5035931.63400
SW_QUAD_CORNER_XY: 729749.83600 5035751.01200
SECONDARY_NW_QUAD_XY: 729502.69500 5042476.91900
SECONDARY_NE_QUAD_XY: 734385.65700 5042657.53900
SECONDARY_SE_QUAD_XY: 734645.06000 5035714.20500
SECONDARY_SW_QUAD_XY: 729756.68400 5035533.57800
RMSE_XY: 1.60000
IMAGE_SOURCE: BLACK AND WHITE FILM
SOURCE_IMAGE_ID: NAPP 9142 037
SOURCE_IMAGE_DATE: 1996 08 24
SOURCE_IMAGE_ID: NAPP 9142 266
SOURCE_IMAGE_DATE: 1996 08 24
SOURCE_IMAGE_ID: NAPP 9142 039
SOURCE_IMAGE_DATE: 1996 08 24
SOURCE_DEM_DATE: 1969 00 00
AGENCY: WESTERN MAPPING CENTER (WMC)
PRODUCER: UNDEFINED
PRODUCTION_SYSTEM: GIS/MAGIC
COMPRESSION: UNDEFINED
STANDARD_VERSION: 1996 12
METADATA_DATE: 1999 04 28
DATA_FILE_SIZE: 44847530
BYTE_COUNT: 5798
