FILENAME: O4510841.NES.1007154.tif
QUADRANGLE_NAME: BRIDGER
QUADRANT: NE
WEST_LONGITUDE: -108 56 15.00000
EAST_LONGITUDE: -108 52 30.00000
NORTH_LATITUDE: 45 22 30.00000
SOUTH_LATITUDE: 45 18 45.00000
PRODUCTION_DATE: 1999 4 13
RASTER_ORDER: LEFT_RIGHT/TOP_BOTTOM
BAND_ORGANIZATION: SINGLE FILE
BAND_CONTENT: BLACK&WHITE
BAND_CONTENT: UNDEFINED
BAND_CONTENT: UNDEFINED
BITS_PER_PIXEL: 8
SAMPLES_AND_LINES: 5735 7681
HORIZONTAL_DATUM: NAD83
HORIZONTAL_COORDINATE_SYSTEM: UTM
COORDINATE_ZONE: 12
HORIZONTAL_UNITS: METERS
HORIZONTAL_RESOLUTION: 1.00000
SECONDARY_HORIZONTAL_DATUM: NAD27
XY_ORIGIN: 661136.00000 5027107.00000
SECONDARY_XY_ORIGIN: 661195.56000 5026896.84300
NATION: US
NATION: "SCIENCE
STATE: MT
NW_QUAD_CORNER_XY: 661492.28800 5026678.68800
NE_QUAD_CORNER_XY: 666385.96700 5026806.02100
SE_QUAD_CORNERY_XY: 666569.23200 5019862.69500
SW_QUAD_CORNER_XY: 661670.15800 5019735.35900
SECONDARY_NW_QUAD_XY: 661497.09400 5026461.24100
SECONDARY_NE_QUAD_XY: 666390.92000 5026588.57800
SECONDARY_SE_QUAD_XY: 666574.18300 5019645.30200
SECONDARY_SW_QUAD_XY: 661674.96300 5019517.96200
RMSE_XY: 1.60000
IMAGE_SOURCE: BLACK AND WHITE FILM
SOURCE_IMAGE_ID: NAPP 9147 047
SOURCE_IMAGE_DATE: 1996 08 24
SOURCE_IMAGE_ID: NAPP 9147 284
SOURCE_IMAGE_DATE: 1996 08 24
SOURCE_DEM_DATE: 1998 00 00
AGENCY: WESTERN MAPPING CENTER (WMC)
PRODUCER: UNDEFINED
PRODUCTION_SYSTEM: GIS/MAGIC
COMPRESSION: UNDEFINED
STANDARD_VERSION: 1996 12
METADATA_DATE: 1999 04 28
DATA_FILE_SIZE: 44056270
BYTE_COUNT: 5735
