FILENAME: O4510843.SES.1007288.tif
QUADRANGLE_NAME: SECTION HOUSE DRAW
QUADRANT: SE
WEST_LONGITUDE: -108 41 15.00000
EAST_LONGITUDE: -108 37 30.00000
NORTH_LATITUDE: 45 18 45.00000
SOUTH_LATITUDE: 45 15 0.00000
PRODUCTION_DATE: 1999 4 12
RASTER_ORDER: LEFT_RIGHT/TOP_BOTTOM
BAND_ORGANIZATION: SINGLE FILE
BAND_CONTENT: BLACK&WHITE
BAND_CONTENT: UNDEFINED
BAND_CONTENT: UNDEFINED
BITS_PER_PIXEL: 8
SAMPLES_AND_LINES: 5761 7696
HORIZONTAL_DATUM: NAD83
HORIZONTAL_COORDINATE_SYSTEM: UTM
COORDINATE_ZONE: 12
HORIZONTAL_UNITS: METERS
HORIZONTAL_RESOLUTION: 1.00000
SECONDARY_HORIZONTAL_DATUM: NAD27
XY_ORIGIN: 680911.00000 5020711.00000
SECONDARY_XY_ORIGIN: 680970.33500 5020500.74200
NATION: US
NATION: "SCIENCE
STATE: MT
NW_QUAD_CORNER_XY: 681266.44300 5020267.53200
NE_QUAD_CORNER_XY: 686165.50900 5020410.08800
SE_QUAD_CORNERY_XY: 686370.13500 5013466.83800
SW_QUAD_CORNER_XY: 681465.67800 5013324.27900
SECONDARY_NW_QUAD_XY: 681271.83100 5020050.15100
SECONDARY_NE_QUAD_XY: 686171.04200 5020192.71200
SECONDARY_SE_QUAD_XY: 686375.66700 5013249.51300
SECONDARY_SW_QUAD_XY: 681471.06400 5013106.95000
RMSE_XY: 3.10000
IMAGE_SOURCE: BLACK AND WHITE FILM
SOURCE_IMAGE_ID: NAPP 9138 275
SOURCE_IMAGE_DATE: 1996 08 23
SOURCE_IMAGE_ID: NAPP 9140 112
SOURCE_IMAGE_DATE: 1996 08 23
SOURCE_IMAGE_ID: NAPP 9138 274
SOURCE_IMAGE_DATE: 1996 08 23
SOURCE_IMAGE_ID: NAPP 9138 276
SOURCE_IMAGE_DATE: 1996 08 23
SOURCE_DEM_DATE: 1998 00 00
AGENCY: WESTERN MAPPING CENTER (WMC)
PRODUCER: UNDEFINED
PRODUCTION_SYSTEM: GIS/MAGIC
COMPRESSION: UNDEFINED
STANDARD_VERSION: 1996 12
METADATA_DATE: 1999 04 28
DATA_FILE_SIZE: 44342417
BYTE_COUNT: 5761
