FILENAME: O4510846.NWS.1006926.tif
QUADRANGLE_NAME: DEEP CREEK SE
QUADRANT: NW
WEST_LONGITUDE: -108 22 30.00000
EAST_LONGITUDE: -108 18 45.00000
NORTH_LATITUDE: 45 22 30.00000
SOUTH_LATITUDE: 45 18 45.00000
PRODUCTION_DATE: 1999 4 5
RASTER_ORDER: LEFT_RIGHT/TOP_BOTTOM
BAND_ORGANIZATION: SINGLE FILE
BAND_CONTENT: BLACK&WHITE
BAND_CONTENT: UNDEFINED
BAND_CONTENT: UNDEFINED
BITS_PER_PIXEL: 8
SAMPLES_AND_LINES: 5781 7715
HORIZONTAL_DATUM: NAD83
HORIZONTAL_COORDINATE_SYSTEM: UTM
COORDINATE_ZONE: 12
HORIZONTAL_UNITS: METERS
HORIZONTAL_RESOLUTION: 1.00000
SECONDARY_HORIZONTAL_DATUM: NAD27
XY_ORIGIN: 705181.00000 5028424.00000
SECONDARY_XY_ORIGIN: 705240.21700 5028213.36500
NATION: US
NATION: "SCIENCE
STATE: MT
NW_QUAD_CORNER_XY: 705535.31000 5027961.67400
NE_QUAD_CORNER_XY: 710428.96500 5028123.25900
SE_QUAD_CORNERY_XY: 710660.80400 5021179.96500
SW_QUAD_CORNER_XY: 705761.75000 5021018.37500
SECONDARY_NW_QUAD_XY: 705541.42800 5027744.26400
SECONDARY_NE_QUAD_XY: 710435.22800 5027905.85400
SECONDARY_SE_QUAD_XY: 710667.06600 5020962.61100
SECONDARY_SW_QUAD_XY: 705767.86600 5020801.01700
RMSE_XY: 1.40000
IMAGE_SOURCE: BLACK AND WHITE FILM
SOURCE_IMAGE_ID: NAPP 9137 100
SOURCE_IMAGE_DATE: 1996 08 23
SOURCE_IMAGE_ID: NAPP 9137 101
SOURCE_IMAGE_DATE: 1996 08 23
SOURCE_IMAGE_ID: NAPP 9134 013
SOURCE_IMAGE_DATE: 1996 08 10
SOURCE_IMAGE_ID: NAPP 9134 014
SOURCE_IMAGE_DATE: 1996 08 10
SOURCE_IMAGE_ID: NAPP 9134 015
SOURCE_IMAGE_DATE: 1996 08 10
SOURCE_DEM_DATE: 1967 00 00
AGENCY: WESTERN MAPPING CENTER (WMC)
PRODUCER: UNDEFINED
PRODUCTION_SYSTEM: GIS/MAGIC
COMPRESSION: UNDEFINED
STANDARD_VERSION: 1996 12
METADATA_DATE: 1999 04 30
DATA_FILE_SIZE: 44606196
BYTE_COUNT: 5781
