FILENAME: O4510847.SES.1006964.tif
QUADRANGLE_NAME: BEAR COULEE SW
QUADRANT: SE
WEST_LONGITUDE: -108 11 15.00000
EAST_LONGITUDE: -108 7 30.00000
NORTH_LATITUDE: 45 18 45.00000
SOUTH_LATITUDE: 45 15 0.00000
PRODUCTION_DATE: 1999 4 5
RASTER_ORDER: LEFT_RIGHT/TOP_BOTTOM
BAND_ORGANIZATION: SINGLE FILE
BAND_CONTENT: BLACK&WHITE
BAND_CONTENT: UNDEFINED
BAND_CONTENT: UNDEFINED
BITS_PER_PIXEL: 8
SAMPLES_AND_LINES: 5802 7726
HORIZONTAL_DATUM: NAD83
HORIZONTAL_COORDINATE_SYSTEM: UTM
COORDINATE_ZONE: 12
HORIZONTAL_UNITS: METERS
HORIZONTAL_RESOLUTION: 1.00000
SECONDARY_HORIZONTAL_DATUM: NAD27
XY_ORIGIN: 720105.00000 5021988.00000
SECONDARY_XY_ORIGIN: 720164.17800 5021777.22100
NATION: US
NATION: "SCIENCE
STATE: MT
NW_QUAD_CORNER_XY: 720458.90400 5021514.56600
NE_QUAD_CORNER_XY: 725357.95000 5021687.58000
SE_QUAD_CORNERY_XY: 725605.72100 5014744.35600
SW_QUAD_CORNER_XY: 720701.28000 5014571.33900
SECONDARY_NW_QUAD_XY: 720465.45700 5021297.22300
SECONDARY_NE_QUAD_XY: 725364.64900 5021470.24100
SECONDARY_SE_QUAD_XY: 725612.41800 5014527.06900
SECONDARY_SW_QUAD_XY: 720707.83100 5014354.04700
RMSE_XY: 1.80000
IMAGE_SOURCE: BLACK AND WHITE FILM
SOURCE_IMAGE_ID: NAPP 9143 015
SOURCE_IMAGE_DATE: 1996 08 24
SOURCE_IMAGE_ID: NAPP 9146 067
SOURCE_IMAGE_DATE: 1996 08 24
SOURCE_IMAGE_ID: NAPP 9143 014
SOURCE_IMAGE_DATE: 1996 08 24
SOURCE_IMAGE_ID: NAPP 9143 016
SOURCE_IMAGE_DATE: 1996 08 24
SOURCE_DEM_DATE: 1964 00 00
AGENCY: WESTERN MAPPING CENTER (WMC)
PRODUCER: UNDEFINED
PRODUCTION_SYSTEM: GIS/MAGIC
COMPRESSION: UNDEFINED
STANDARD_VERSION: 1996 12
METADATA_DATE: 1999 04 30
DATA_FILE_SIZE: 44832054
BYTE_COUNT: 5802
