FILENAME: O4510853.NWS.1050851.tif
QUADRANGLE_NAME: Big Ice Cave
QUADRANT: NW
WEST_LONGITUDE: -108 30 0.00000
EAST_LONGITUDE: -108 26 15.00000
NORTH_LATITUDE: 45 15 0.00000
SOUTH_LATITUDE: 45 11 15.00000
PRODUCTION_DATE: 2000 2 25
RASTER_ORDER: LEFT_RIGHT/TOP_BOTTOM
BAND_ORGANIZATION: SINGLE FILE
BAND_CONTENT: BLACK&WHITE
BAND_CONTENT: UNDEFINED
BAND_CONTENT: UNDEFINED
BITS_PER_PIXEL: 8
SAMPLES_AND_LINES: 5779 7705
HORIZONTAL_DATUM: NAD83
HORIZONTAL_COORDINATE_SYSTEM: UTM
COORDINATE_ZONE: 12
HORIZONTAL_UNITS: meters
HORIZONTAL_RESOLUTION: 1.00000
SECONDARY_HORIZONTAL_DATUM: NAD27
XY_ORIGIN: 695826.20000 5014216.85000
SECONDARY_XY_ORIGIN: 695885.37400 5014006.55300
NATION: US
STATE: MT
NW_QUAD_CORNER_XY: 696179.04300 5013763.37500
NE_QUAD_CORNER_XY: 701083.49400 5013917.35300
SE_QUAD_CORNERY_XY: 701304.05500 5006974.17400
SW_QUAD_CORNER_XY: 696394.21700 5006820.19300
SECONDARY_NW_QUAD_XY: 696184.86600 5013546.05900
SECONDARY_NE_QUAD_XY: 701089.46300 5013700.04200
SECONDARY_SE_QUAD_XY: 701310.02200 5006756.91500
SECONDARY_SW_QUAD_XY: 696400.03800 5006602.93000
RMSE_XY: 1.04000
IMAGE_SOURCE: BLACK & WHITE FILM
SOURCE_IMAGE_ID: NAPP 9161 067
SOURCE_IMAGE_DATE: 1998 7 12
SOURCE_IMAGE_ID: NAPP 9161 078
SOURCE_IMAGE_DATE: 1998 7 12
SOURCE_IMAGE_ID: NAPP 9161 066
SOURCE_IMAGE_DATE: 1998 7 12
SOURCE_IMAGE_ID: NAPP 9161 079
SOURCE_IMAGE_DATE: 1998 7 12
SOURCE_IMAGE_ID: NAPP 9161 068
SOURCE_IMAGE_DATE: 1998 7 12
SOURCE_DEM_DATE: 1963 1 1
AGENCY: ROCKY MOUNTAIN MAPPING CENTER (RMMC)
PRODUCER: ROCKY MOUNTAIN MAPPING CENTER (RMMC)
PRODUCTION_SYSTEM: ImageStation OrthoPro 02.02.01.06
COMPRESSION: UNDEFINED
STANDARD_VERSION: 1996 12
METADATA_DATE: 2000 2 25
DATA_FILE_SIZE: 44532974
BYTE_COUNT: 5779
