FILENAME: O4510854.SWS.927722.tif
QUADRANGLE_NAME: EAST PRYOR MOUNTAIN
QUADRANT: SW
WEST_LONGITUDE: -108 22 30.00000
EAST_LONGITUDE: -108 18 45.00000
NORTH_LATITUDE: 45 11 15.00000
SOUTH_LATITUDE: 45 7 30.00000
PRODUCTION_DATE: 1997 10 27
RASTER_ORDER: LEFT_RIGHT/TOP_BOTTOM
BAND_ORGANIZATION: SINGLE FILE
BAND_CONTENT: BLACK&WHITE
BAND_CONTENT: UNDEFINED
BAND_CONTENT: UNDEFINED
BITS_PER_PIXEL: 8
SAMPLES_AND_LINES: 5799 7718
HORIZONTAL_DATUM: NAD83
HORIZONTAL_COORDINATE_SYSTEM: UTM
COORDINATE_ZONE: 12
HORIZONTAL_UNITS: METERS
HORIZONTAL_RESOLUTION: 1.00000
SECONDARY_HORIZONTAL_DATUM: NAD27
XY_ORIGIN: 705860.00000 5007607.00000
SECONDARY_XY_ORIGIN: 705919.14000 5007396.56000
NATION: US
STATE: MT
NW_QUAD_CORNER_XY: 706213.96000 5007131.92000
NE_QUAD_CORNER_XY: 711123.79000 5007293.52000
SE_QUAD_CORNERY_XY: 711354.88000 5000350.40000
SW_QUAD_CORNER_XY: 706439.66000 5000188.81000
SECONDARY_NW_QUAD_XY: 706220.07000 5006914.67000
SECONDARY_NE_QUAD_XY: 711130.05000 5007076.27000
SECONDARY_SE_QUAD_XY: 711361.13000 5000133.21000
SECONDARY_SW_QUAD_XY: 706445.77000 4999971.60000
RMSE_XY: 3.10000
IMAGE_SOURCE: BLACK AND WHITE FILM
SOURCE_IMAGE_ID: NAP 9137 106
SOURCE_IMAGE_DATE: 1994 7 11
SOURCE_IMAGE_ID: NAP 9137 105
SOURCE_IMAGE_DATE: 1994 7 11
SOURCE_IMAGE_ID: NAP 9137 7802
SOURCE_IMAGE_DATE: 1994 7 11
SOURCE_IMAGE_ID: NAP 9137 101
SOURCE_IMAGE_DATE: 1994 7 11
SOURCE_DEM_DATE: 1997 10 27
AGENCY: WESTERN MAPPING CENTER (WMC)
PRODUCER: USDA FS GEOMETRONICS SERVICE CENTER
PRODUCTION_SYSTEM: DV2.6.3 10/9OV2.4 5/95
COMPRESSION: UNDEFINED
STANDARD_VERSION: 1996 12
METADATA_DATE: 1998 6 26
DATA_FILE_SIZE: 44762481
BYTE_COUNT: 5799
