FILENAME: O4510859.SES.1007268.tif
QUADRANGLE_NAME: WARREN
QUADRANT: SE
WEST_LONGITUDE: -108 41 15.00000
EAST_LONGITUDE: -108 37 30.00000
NORTH_LATITUDE: 45 3 45.00000
SOUTH_LATITUDE: 45 0 0.00000
PRODUCTION_DATE: 1999 4 12
RASTER_ORDER: LEFT_RIGHT/TOP_BOTTOM
BAND_ORGANIZATION: SINGLE FILE
BAND_CONTENT: BLACK&WHITE
BAND_CONTENT: UNDEFINED
BAND_CONTENT: UNDEFINED
BITS_PER_PIXEL: 8
SAMPLES_AND_LINES: 5781 7696
HORIZONTAL_DATUM: NAD83
HORIZONTAL_COORDINATE_SYSTEM: UTM
COORDINATE_ZONE: 12
HORIZONTAL_UNITS: METERS
HORIZONTAL_RESOLUTION: 1.00000
SECONDARY_HORIZONTAL_DATUM: NAD27
XY_ORIGIN: 681707.00000 4992938.00000
SECONDARY_XY_ORIGIN: 681766.28000 4992727.92200
NATION: US
NATION: "SCIENCE
STATE: MT
STATE: WY
NW_QUAD_CORNER_XY: 682062.07900 4992494.90500
NE_QUAD_CORNER_XY: 686982.67300 4992637.46800
SE_QUAD_CORNERY_XY: 687186.40500 4985694.47100
SW_QUAD_CORNER_XY: 682260.44400 4985551.90800
SECONDARY_NW_QUAD_XY: 682067.46100 4992277.73600
SECONDARY_NE_QUAD_XY: 686988.20000 4992420.30300
SECONDARY_SE_QUAD_XY: 687191.93100 4985477.36100
SECONDARY_SW_QUAD_XY: 682265.82400 4985334.79400
RMSE_XY: 1.70000
IMAGE_SOURCE: BLACK AND WHITE FILM
SOURCE_IMAGE_ID: NAPP 9138 267
SOURCE_IMAGE_DATE: 1996 08 23
SOURCE_IMAGE_ID: NAPP 9138 264
SOURCE_IMAGE_DATE: 1996 08 23
SOURCE_DEM_DATE: 1997 01 01
AGENCY: WESTERN MAPPING CENTER (WMC)
PRODUCER: UNDEFINED
PRODUCTION_SYSTEM: GIS/MAGIC
COMPRESSION: UNDEFINED
STANDARD_VERSION: 1996 12
METADATA_DATE: 1999 04 28
DATA_FILE_SIZE: 44496357
BYTE_COUNT: 5781
