FILENAME: O4510859.NES.1007266.tif
QUADRANGLE_NAME: WARREN
QUADRANT: NE
WEST_LONGITUDE: -108 41 15.00000
EAST_LONGITUDE: -108 37 30.00000
NORTH_LATITUDE: 45 7 30.00000
SOUTH_LATITUDE: 45 3 45.00000
PRODUCTION_DATE: 1999 4 12
RASTER_ORDER: LEFT_RIGHT/TOP_BOTTOM
BAND_ORGANIZATION: SINGLE FILE
BAND_CONTENT: BLACK&WHITE
BAND_CONTENT: UNDEFINED
BAND_CONTENT: UNDEFINED
BITS_PER_PIXEL: 8
SAMPLES_AND_LINES: 5776 7696
HORIZONTAL_DATUM: NAD83
HORIZONTAL_COORDINATE_SYSTEM: UTM
COORDINATE_ZONE: 12
HORIZONTAL_UNITS: METERS
HORIZONTAL_RESOLUTION: 1.00000
SECONDARY_HORIZONTAL_DATUM: NAD27
XY_ORIGIN: 681508.00000 4999881.00000
SECONDARY_XY_ORIGIN: 681567.28900 4999670.88500
NATION: US
NATION: "SCIENCE
STATE: MT
NW_QUAD_CORNER_XY: 681863.49600 4999437.96600
NE_QUAD_CORNER_XY: 686778.71700 4999580.52800
SE_QUAD_CORNERY_XY: 686982.67300 4992637.46800
SW_QUAD_CORNER_XY: 682062.07900 4992494.90500
SECONDARY_NW_QUAD_XY: 681868.87900 4999220.74200
SECONDARY_NE_QUAD_XY: 686784.24600 4999363.30900
SECONDARY_SE_QUAD_XY: 686988.20000 4992420.30300
SECONDARY_SW_QUAD_XY: 682067.46100 4992277.73600
RMSE_XY: 1.70000
IMAGE_SOURCE: BLACK AND WHITE FILM
SOURCE_IMAGE_ID: NAPP 9138 269
SOURCE_IMAGE_DATE: 1996 08 23
SOURCE_IMAGE_ID: NAPP 9138 270
SOURCE_IMAGE_DATE: 1996 08 23
SOURCE_IMAGE_ID: NAPP 9138 271
SOURCE_IMAGE_DATE: 1996 08 23
SOURCE_IMAGE_ID: NAPP 9138 261
SOURCE_IMAGE_DATE: 1996 08 23
SOURCE_DEM_DATE: 1997 01 01
AGENCY: WESTERN MAPPING CENTER (WMC)
PRODUCER: UNDEFINED
PRODUCTION_SYSTEM: GIS/MAGIC
COMPRESSION: UNDEFINED
STANDARD_VERSION: 1996 12
METADATA_DATE: 1999 04 28
DATA_FILE_SIZE: 44457872
BYTE_COUNT: 5776
