FILENAME: O4510862.SWS.927890.tif
QUADRANGLE_NAME: MYSTERY CAVE
QUADRANT: SW
WEST_LONGITUDE: -108 22 30.00000
EAST_LONGITUDE: -108 18 45.00000
NORTH_LATITUDE: 45 3 45.00000
SOUTH_LATITUDE: 45 0 0.00000
PRODUCTION_DATE: 1997 10 27
RASTER_ORDER: LEFT_RIGHT/TOP_BOTTOM
BAND_ORGANIZATION: SINGLE FILE
BAND_CONTENT: BLACK&WHITE
BAND_CONTENT: UNDEFINED
BAND_CONTENT: UNDEFINED
BITS_PER_PIXEL: 8
SAMPLES_AND_LINES: 5804 7714
HORIZONTAL_DATUM: NAD83
HORIZONTAL_COORDINATE_SYSTEM: UTM
COORDINATE_ZONE: 12
HORIZONTAL_UNITS: METERS
HORIZONTAL_RESOLUTION: 1.00000
SECONDARY_HORIZONTAL_DATUM: NAD27
XY_ORIGIN: 706311.00000 4993708.00000
SECONDARY_XY_ORIGIN: 706370.12700 4993497.73200
NATION: US
STATE: MT
STATE: WY
NW_QUAD_CORNER_XY: 706665.04500 4993245.78700
NE_QUAD_CORNER_XY: 711585.63800 4993407.38500
SE_QUAD_CORNERY_XY: 711816.21400 4986464.38800
SW_QUAD_CORNER_XY: 706890.25200 4986302.79100
SECONDARY_NW_QUAD_XY: 706671.15500 4993028.64000
SECONDARY_NE_QUAD_XY: 711591.89200 4993190.24200
SECONDARY_SE_QUAD_XY: 711822.46700 4986247.30100
SECONDARY_SW_QUAD_XY: 706896.35900 4986085.69900
RMSE_XY: 1.40000
IMAGE_SOURCE: BLACK AND WHITE FILM
SOURCE_IMAGE_ID: NAPP 7802 99
SOURCE_IMAGE_DATE: 1994 7 11
SOURCE_DEM_DATE: 1997 10 27
AGENCY: WESTERN MAPPING CENTER (WMC)
PRODUCER: USDA FS GEOMETRONICS SERVICE CENTER
PRODUCTION_SYSTEM: DV2.6.3 10/9OV2.4 5/95
COMPRESSION: UNDEFINED
STANDARD_VERSION: 1996 12
METADATA_DATE: 1998 6 26
DATA_FILE_SIZE: 44777860
BYTE_COUNT: 5804
