FILENAME: O4510701.NWS.1006574.tif
QUADRANGLE_NAME: POMPEYS PILLAR
QUADRANT: NW
WEST_LONGITUDE: -108 0 0.00000
EAST_LONGITUDE: -107 56 15.00000
NORTH_LATITUDE: 46 0 0.00000
SOUTH_LATITUDE: 45 56 15.00000
PRODUCTION_DATE: 1999 5 3
RASTER_ORDER: LEFT_RIGHT/TOP_BOTTOM
BAND_ORGANIZATION: SINGLE FILE
BAND_CONTENT: BLACK&WHITE
BAND_CONTENT: UNDEFINED
BAND_CONTENT: UNDEFINED
BITS_PER_PIXEL: 8
SAMPLES_AND_LINES: 5755 7729
HORIZONTAL_DATUM: NAD83
HORIZONTAL_COORDINATE_SYSTEM: UTM
COORDINATE_ZONE: 13
HORIZONTAL_UNITS: METERS
HORIZONTAL_RESOLUTION: 1.00000
SECONDARY_HORIZONTAL_DATUM: NAD27
XY_ORIGIN: 267092.00000 5098725.00000
SECONDARY_XY_ORIGIN: 267136.65500 5098508.64600
NATION: US
NATION: "SCIENCE
STATE: MT
NW_QUAD_CORNER_XY: 267706.64100 5098424.07900
NE_QUAD_CORNER_XY: 272545.94000 5098243.54600
SE_QUAD_CORNERY_XY: 272289.76200 5091299.70600
SW_QUAD_CORNER_XY: 267445.00300 5091480.25200
SECONDARY_NW_QUAD_XY: 267699.63200 5098206.24000
SECONDARY_NE_QUAD_XY: 272539.07700 5098025.70100
SECONDARY_SE_QUAD_XY: 272282.90000 5091081.90300
SECONDARY_SW_QUAD_XY: 267437.99500 5091262.45500
RMSE_XY: 2.60000
IMAGE_SOURCE: BLACK AND WHITE FILM
SOURCE_IMAGE_ID: NAPP 9151 019
SOURCE_IMAGE_DATE: 1996 09 11
SOURCE_IMAGE_ID: NAPP 9151 021
SOURCE_IMAGE_DATE: 1996 09 11
SOURCE_IMAGE_ID: NAPP 9151 018
SOURCE_IMAGE_DATE: 1996 09 11
SOURCE_IMAGE_ID: NAPP 9160 171
SOURCE_IMAGE_DATE: 1997 09 23
SOURCE_DEM_DATE: 1980 00 00
AGENCY: WESTERN MAPPING CENTER (WMC)
PRODUCER: UNDEFINED
PRODUCTION_SYSTEM: GIS/MAGIC
COMPRESSION: UNDEFINED
STANDARD_VERSION: 1996 12
METADATA_DATE: 1999 05 18
DATA_FILE_SIZE: 44486150
BYTE_COUNT: 5755
