FILENAME: O4510702.SES.1006786.tif
QUADRANGLE_NAME: WAGON BOX SPRING
QUADRANT: SE
WEST_LONGITUDE: -107 48 45.00000
EAST_LONGITUDE: -107 45 0.00000
NORTH_LATITUDE: 45 56 15.00000
SOUTH_LATITUDE: 45 52 30.00000
PRODUCTION_DATE: 1999 4 28
RASTER_ORDER: LEFT_RIGHT/TOP_BOTTOM
BAND_ORGANIZATION: SINGLE FILE
BAND_CONTENT: BLACK&WHITE
BAND_CONTENT: UNDEFINED
BAND_CONTENT: UNDEFINED
BITS_PER_PIXEL: 8
SAMPLES_AND_LINES: 5744 7717
HORIZONTAL_DATUM: NAD83
HORIZONTAL_COORDINATE_SYSTEM: UTM
COORDINATE_ZONE: 13
HORIZONTAL_UNITS: METERS
HORIZONTAL_RESOLUTION: 1.00000
SECONDARY_HORIZONTAL_DATUM: NAD27
XY_ORIGIN: 281382.00000 5091251.00000
SECONDARY_XY_ORIGIN: 281425.97500 5091033.77900
NATION: US
NATION: "SCIENCE
STATE: MT
NW_QUAD_CORNER_XY: 281979.30500 5090950.03300
NE_QUAD_CORNER_XY: 286824.08900 5090780.90700
SE_QUAD_CORNERY_XY: 286584.54300 5083837.08800
SW_QUAD_CORNER_XY: 281734.30600 5084006.22600
SECONDARY_NW_QUAD_XY: 281972.73500 5090732.22000
SECONDARY_NE_QUAD_XY: 286817.66600 5090563.08900
SECONDARY_SE_QUAD_XY: 286578.12100 5083619.31300
SECONDARY_SW_QUAD_XY: 281727.73800 5083788.45600
RMSE_XY: 1.00000
IMAGE_SOURCE: BLACK AND WHITE FILM
SOURCE_IMAGE_ID: NAPP 9131 288
SOURCE_IMAGE_DATE: 1996 07 29
SOURCE_IMAGE_ID: NAPP 9132 021
SOURCE_IMAGE_DATE: 1996 07 29
SOURCE_IMAGE_ID: NAPP 9131 286
SOURCE_IMAGE_DATE: 1996 07 29
SOURCE_DEM_DATE: 1966 00 00
AGENCY: WESTERN MAPPING CENTER (WMC)
PRODUCER: UNDEFINED
PRODUCTION_SYSTEM: GIS/MAGIC
COMPRESSION: UNDEFINED
STANDARD_VERSION: 1996 12
METADATA_DATE: 1999 05 18
DATA_FILE_SIZE: 44332192
BYTE_COUNT: 5744
