FILENAME: O4510703.NWS.1006886.tif
QUADRANGLE_NAME: LEMON RANCH
QUADRANT: NW
WEST_LONGITUDE: -107 45 0.00000
EAST_LONGITUDE: -107 41 15.00000
NORTH_LATITUDE: 46 0 0.00000
SOUTH_LATITUDE: 45 56 15.00000
PRODUCTION_DATE: 1999 5 3
RASTER_ORDER: LEFT_RIGHT/TOP_BOTTOM
BAND_ORGANIZATION: SINGLE FILE
BAND_CONTENT: BLACK&WHITE
BAND_CONTENT: UNDEFINED
BAND_CONTENT: UNDEFINED
BITS_PER_PIXEL: 8
SAMPLES_AND_LINES: 5732 7712
HORIZONTAL_DATUM: NAD83
HORIZONTAL_COORDINATE_SYSTEM: UTM
COORDINATE_ZONE: 13
HORIZONTAL_UNITS: METERS
HORIZONTAL_RESOLUTION: 1.00000
SECONDARY_HORIZONTAL_DATUM: NAD27
XY_ORIGIN: 286473.00000 5098025.00000
SECONDARY_XY_ORIGIN: 286516.42100 5097807.04600
NATION: US
NATION: "SCIENCE
STATE: MT
NW_QUAD_CORNER_XY: 287063.89100 5097724.78500
NE_QUAD_CORNER_XY: 291903.22600 5097559.47700
SE_QUAD_CORNERY_XY: 291668.88200 5090615.58700
SW_QUAD_CORNER_XY: 286824.08900 5090780.90700
SECONDARY_NW_QUAD_XY: 287057.46600 5097506.92500
SECONDARY_NE_QUAD_XY: 291896.94700 5097341.61100
SECONDARY_SE_QUAD_XY: 291662.60500 5090397.76400
SECONDARY_SW_QUAD_XY: 286817.66600 5090563.08900
RMSE_XY: 2.00000
IMAGE_SOURCE: BLACK AND WHITE FILM
SOURCE_IMAGE_ID: NAPP 9139 045
SOURCE_IMAGE_DATE: 1996 08 26
SOURCE_DEM_DATE: 1956 00 00
AGENCY: WESTERN MAPPING CENTER (WMC)
PRODUCER: UNDEFINED
PRODUCTION_SYSTEM: GIS/MAGIC
COMPRESSION: UNDEFINED
STANDARD_VERSION: 1996 12
METADATA_DATE: 1999 05 18
DATA_FILE_SIZE: 44210916
BYTE_COUNT: 5732
