FILENAME: O4510705.NES.1010647.tif
QUADRANGLE_NAME: DUDLEY SPRING
QUADRANT: NE
WEST_LONGITUDE: -107 26 15.00000
EAST_LONGITUDE: -107 22 30.00000
NORTH_LATITUDE: 46 0 0.00000
SOUTH_LATITUDE: 45 56 15.00000
PRODUCTION_DATE: 1999 6 1
RASTER_ORDER: LEFT_RIGHT/TOP_BOTTOM
BAND_ORGANIZATION: SINGLE FILE
BAND_CONTENT: BLACK&WHITE
BAND_CONTENT: UNDEFINED
BAND_CONTENT: UNDEFINED
BITS_PER_PIXEL: 8
SAMPLES_AND_LINES: 5704 7693
HORIZONTAL_DATUM: NAD83
HORIZONTAL_COORDINATE_SYSTEM: UTM
COORDINATE_ZONE: 13
HORIZONTAL_UNITS: METERS
HORIZONTAL_RESOLUTION: 1.00000
SECONDARY_HORIZONTAL_DATUM: NAD27
XY_ORIGIN: 310698.00000 5097237.00000
SECONDARY_XY_ORIGIN: 310740.61500 5097018.95800
NATION: US
NATION: "SCIENCE
STATE: MT
NW_QUAD_CORNER_XY: 311260.64900 5096936.29500
NE_QUAD_CORNER_XY: 316100.02400 5096790.01100
SE_QUAD_CORNERY_XY: 315892.96100 5089846.06500
SW_QUAD_CORNER_XY: 311048.13000 5089992.36000
SECONDARY_NW_QUAD_XY: 311254.95400 5096718.41100
SECONDARY_NE_QUAD_XY: 316094.47600 5096572.12200
SECONDARY_SE_QUAD_XY: 315887.41400 5089628.21900
SECONDARY_SW_QUAD_XY: 311042.43700 5089774.51800
RMSE_XY: 1.30000
IMAGE_SOURCE: BLACK AND WHITE FILM
SOURCE_IMAGE_ID: NAPP 9133 153
SOURCE_IMAGE_DATE: 1996 08 08
SOURCE_IMAGE_ID: NAPP 9133 216
SOURCE_IMAGE_DATE: 1996 08 08
SOURCE_IMAGE_ID: NAPP 9133 154
SOURCE_IMAGE_DATE: 1996 08 08
SOURCE_IMAGE_ID: NAPP 9133 152
SOURCE_IMAGE_DATE: 1996 08 08
SOURCE_DEM_DATE: 1971 00 00
AGENCY: WESTERN MAPPING CENTER (WMC)
PRODUCER: UNDEFINED
PRODUCTION_SYSTEM: GIS/MAGIC
COMPRESSION: UNDEFINED
STANDARD_VERSION: 1996 12
METADATA_DATE: 1999 06 09
DATA_FILE_SIZE: 43886576
BYTE_COUNT: 5704
