FILENAME: O4510710.NWS.1006789.tif
QUADRANGLE_NAME: BLUE SPRING
QUADRANT: NW
WEST_LONGITUDE: -107 52 30.00000
EAST_LONGITUDE: -107 48 45.00000
NORTH_LATITUDE: 45 52 30.00000
SOUTH_LATITUDE: 45 48 45.00000
PRODUCTION_DATE: 1999 4 23
RASTER_ORDER: LEFT_RIGHT/TOP_BOTTOM
BAND_ORGANIZATION: SINGLE FILE
BAND_CONTENT: BLACK&WHITE
BAND_CONTENT: UNDEFINED
BAND_CONTENT: UNDEFINED
BITS_PER_PIXEL: 8
SAMPLES_AND_LINES: 5755 7721
HORIZONTAL_DATUM: NAD83
HORIZONTAL_COORDINATE_SYSTEM: UTM
COORDINATE_ZONE: 13
HORIZONTAL_UNITS: METERS
HORIZONTAL_RESOLUTION: 1.00000
SECONDARY_HORIZONTAL_DATUM: NAD27
XY_ORIGIN: 276281.00000 5084480.00000
SECONDARY_XY_ORIGIN: 276325.51800 5084263.49000
NATION: US
NATION: "SCIENCE
STATE: MT
NW_QUAD_CORNER_XY: 276884.07600 5084179.17000
NE_QUAD_CORNER_XY: 281734.30600 5084006.22600
SE_QUAD_CORNERY_XY: 281489.56700 5077062.47600
SW_QUAD_CORNER_XY: 276633.89100 5077235.43100
SECONDARY_NW_QUAD_XY: 276877.36300 5083961.40500
SECONDARY_NE_QUAD_XY: 281727.73800 5083788.45600
SECONDARY_SE_QUAD_XY: 281483.00100 5076844.75000
SECONDARY_SW_QUAD_XY: 276627.17900 5077017.71100
RMSE_XY: 1.10000
IMAGE_SOURCE: BLACK AND WHITE FILM
SOURCE_IMAGE_ID: NAPP 9132 018
SOURCE_IMAGE_DATE: 1996 07 29
SOURCE_IMAGE_ID: NAPP 9132 017
SOURCE_IMAGE_DATE: 1996 07 29
SOURCE_IMAGE_ID: NAPP 9131 290
SOURCE_IMAGE_DATE: 1996 07 29
SOURCE_DEM_DATE: 1968 00 00
AGENCY: WESTERN MAPPING CENTER (WMC)
PRODUCER: UNDEFINED
PRODUCTION_SYSTEM: GIS/MAGIC
COMPRESSION: UNDEFINED
STANDARD_VERSION: 1996 12
METADATA_DATE: 1999 05 18
DATA_FILE_SIZE: 44440110
BYTE_COUNT: 5755
