FILENAME: O4510722.NWS.1010608.tif
QUADRANGLE_NAME: CROW
AGENCY NE
QUADRANT: NW
WEST_LONGITUDE: -107 22 30.00000
EAST_LONGITUDE: -107 18 45.00000
NORTH_LATITUDE: 45 45 0.00000
SOUTH_LATITUDE: 45 41 15.00000
PRODUCTION_DATE: 1999 5 25
RASTER_ORDER: LEFT_RIGHT/TOP_BOTTOM
BAND_ORGANIZATION: SINGLE FILE
BAND_CONTENT: BLACK&WHITE
BAND_CONTENT: UNDEFINED
BAND_CONTENT: UNDEFINED
BITS_PER_PIXEL: 8
SAMPLES_AND_LINES: 5720 7690
HORIZONTAL_DATUM: NAD83
HORIZONTAL_COORDINATE_SYSTEM: UTM
COORDINATE_ZONE: 13
HORIZONTAL_UNITS: METERS
HORIZONTAL_RESOLUTION: 1.00000
SECONDARY_HORIZONTAL_DATUM: NAD27
XY_ORIGIN: 314716.00000 5069315.00000
SECONDARY_XY_ORIGIN: 314759.17900 5069097.84200
NATION: US
NATION: "SCIENCE
STATE: MT
NW_QUAD_CORNER_XY: 315273.09500 5069014.60800
NE_QUAD_CORNER_XY: 320134.26200 5068872.09000
SE_QUAD_CORNERY_XY: 319933.51400 5061928.39000
SW_QUAD_CORNER_XY: 315066.91500 5062070.91600
SECONDARY_NW_QUAD_XY: 315267.55200 5068796.89400
SECONDARY_NE_QUAD_XY: 320128.86500 5068654.37200
SECONDARY_SE_QUAD_XY: 319928.11800 5061710.71700
SECONDARY_SW_QUAD_XY: 315061.37300 5061853.24700
RMSE_XY: 1.30000
IMAGE_SOURCE: BLACK AND WHITE FILM
SOURCE_IMAGE_ID: NAPP 9133 061
SOURCE_IMAGE_DATE: 1996 08 08
SOURCE_IMAGE_ID: NAPP 9133 059
SOURCE_IMAGE_DATE: 1996 08 08
SOURCE_IMAGE_ID: NAPP 9133 062
SOURCE_IMAGE_DATE: 1996 08 08
SOURCE_IMAGE_ID: NAPP 9126 046
SOURCE_IMAGE_DATE: 1996 07 14
SOURCE_DEM_DATE: 1967 00 00
AGENCY: WESTERN MAPPING CENTER (WMC)
PRODUCER: UNDEFINED
PRODUCTION_SYSTEM: GIS/MAGIC
COMPRESSION: UNDEFINED
STANDARD_VERSION: 1996 12
METADATA_DATE: 1999 06 07
DATA_FILE_SIZE: 43992520
BYTE_COUNT: 5720
