FILENAME: O4510727.SWS.1006846.tif
QUADRANGLE_NAME: HARDIN SW
QUADRANT: SW
WEST_LONGITUDE: -107 45 0.00000
EAST_LONGITUDE: -107 41 15.00000
NORTH_LATITUDE: 45 33 45.00000
SOUTH_LATITUDE: 45 30 0.00000
PRODUCTION_DATE: 1999 4 22
RASTER_ORDER: LEFT_RIGHT/TOP_BOTTOM
BAND_ORGANIZATION: SINGLE FILE
BAND_CONTENT: BLACK&WHITE
BAND_CONTENT: UNDEFINED
BAND_CONTENT: UNDEFINED
BITS_PER_PIXEL: 8
SAMPLES_AND_LINES: 5771 7714
HORIZONTAL_DATUM: NAD83
HORIZONTAL_COORDINATE_SYSTEM: UTM
COORDINATE_ZONE: 13
HORIZONTAL_UNITS: METERS
HORIZONTAL_RESOLUTION: 1.00000
SECONDARY_HORIZONTAL_DATUM: NAD27
XY_ORIGIN: 284799.00000 5049419.00000
SECONDARY_XY_ORIGIN: 284844.04100 5049203.48900
NATION: US
NATION: "SCIENCE
STATE: MT
NW_QUAD_CORNER_XY: 285390.64400 5049118.87400
NE_QUAD_CORNER_XY: 290268.06200 5048953.49900
SE_QUAD_CORNERY_XY: 290035.46800 5042010.02600
SW_QUAD_CORNER_XY: 285152.63300 5042175.40800
SECONDARY_NW_QUAD_XY: 285384.23000 5048901.32800
SECONDARY_NE_QUAD_XY: 290261.79300 5048735.94700
SECONDARY_SE_QUAD_XY: 290029.20100 5041792.52200
SECONDARY_SW_QUAD_XY: 285146.22100 5041957.90900
RMSE_XY: 0.90000
IMAGE_SOURCE: BLACK AND WHITE FILM
SOURCE_IMAGE_ID: NAPP 9139 059
SOURCE_IMAGE_DATE: 1996 08 26
SOURCE_IMAGE_ID: NAPP 9139 058
SOURCE_IMAGE_DATE: 1996 08 26
SOURCE_IMAGE_ID: NAPP 9139 023
SOURCE_IMAGE_DATE: 1996 08 26
SOURCE_DEM_DATE: 1958 00 00
AGENCY: WESTERN MAPPING CENTER (WMC)
PRODUCER: UNDEFINED
PRODUCTION_SYSTEM: GIS/MAGIC
COMPRESSION: UNDEFINED
STANDARD_VERSION: 1996 12
METADATA_DATE: 1999 05 18
DATA_FILE_SIZE: 44523265
BYTE_COUNT: 5771
