FILENAME: O4510728.SWS.1008801.tif
QUADRANGLE_NAME: PRANTE RANCH
QUADRANT: SW
WEST_LONGITUDE: -107 37 30.00000
EAST_LONGITUDE: -107 33 45.00000
NORTH_LATITUDE: 45 33 45.00000
SOUTH_LATITUDE: 45 30 0.00000
PRODUCTION_DATE: 1999 4 22
RASTER_ORDER: LEFT_RIGHT/TOP_BOTTOM
BAND_ORGANIZATION: SINGLE FILE
BAND_CONTENT: BLACK&WHITE
BAND_CONTENT: UNDEFINED
BAND_CONTENT: UNDEFINED
BITS_PER_PIXEL: 8
SAMPLES_AND_LINES: 5758 7706
HORIZONTAL_DATUM: NAD83
HORIZONTAL_COORDINATE_SYSTEM: UTM
COORDINATE_ZONE: 13
HORIZONTAL_UNITS: METERS
HORIZONTAL_RESOLUTION: 1.00000
SECONDARY_HORIZONTAL_DATUM: NAD27
XY_ORIGIN: 294566.00000 5049092.00000
SECONDARY_XY_ORIGIN: 294610.74800 5048876.22300
NATION: US
NATION: "SCIENCE
STATE: MT
NW_QUAD_CORNER_XY: 295145.48400 5048791.93000
NE_QUAD_CORNER_XY: 300022.91100 5048634.16800
SE_QUAD_CORNERY_XY: 299801.15100 5041690.68300
SW_QUAD_CORNER_XY: 294918.30700 5041848.45100
SECONDARY_NW_QUAD_XY: 295139.36200 5048574.37400
SECONDARY_NE_QUAD_XY: 300016.93500 5048416.60700
SECONDARY_SE_QUAD_XY: 299795.17500 5041473.17000
SECONDARY_SW_QUAD_XY: 294912.18600 5041630.94300
RMSE_XY: 1.60000
IMAGE_SOURCE: BLACK AND WHITE FILM
SOURCE_IMAGE_ID: NAPP 9135 109
SOURCE_IMAGE_DATE: 1996 08 19
SOURCE_IMAGE_ID: NAPP 9135 107
SOURCE_IMAGE_DATE: 1996 08 19
SOURCE_IMAGE_ID: NAPP 9135 074
SOURCE_IMAGE_DATE: 1996 08 19
SOURCE_DEM_DATE: 1960 00 00
AGENCY: WESTERN MAPPING CENTER (WMC)
PRODUCER: UNDEFINED
PRODUCTION_SYSTEM: GIS/MAGIC
COMPRESSION: UNDEFINED
STANDARD_VERSION: 1996 12
METADATA_DATE: 1999 06 02
DATA_FILE_SIZE: 44376906
BYTE_COUNT: 5758
