FILENAME: O4510730.NES.927707.tif
QUADRANGLE_NAME: CROW
AGENCY SE
QUADRANT: NE
WEST_LONGITUDE: -107 18 45.00000
EAST_LONGITUDE: -107 15 0.00000
NORTH_LATITUDE: 45 37 30.00000
SOUTH_LATITUDE: 45 33 45.00000
PRODUCTION_DATE: 1997 10 28
RASTER_ORDER: LEFT_RIGHT/TOP_BOTTOM
BAND_ORGANIZATION: SINGLE FILE
BAND_CONTENT: BLACK&WHITE
BAND_CONTENT: UNDEFINED
BAND_CONTENT: UNDEFINED
BITS_PER_PIXEL: 8
SAMPLES_AND_LINES: 5724 7687
HORIZONTAL_DATUM: NAD83
HORIZONTAL_COORDINATE_SYSTEM: UTM
COORDINATE_ZONE: 13
HORIZONTAL_UNITS: METERS
HORIZONTAL_RESOLUTION: 1.00000
SECONDARY_HORIZONTAL_DATUM: NAD27
XY_ORIGIN: 319182.00000 5055286.00000
SECONDARY_XY_ORIGIN: 319225.00000 5055070.00000
NATION: US
STATE: MT
NW_QUAD_CORNER_XY: 319732.98100 5054984.75500
NE_QUAD_CORNER_XY: 324605.01000 5054846.02700
SE_QUAD_CORNERY_XY: 324410.11200 5047902.44900
SW_QUAD_CORNER_XY: 319532.66400 5048041.18200
SECONDARY_NW_QUAD_XY: 319727.58600 5054767.12800
SECONDARY_NE_QUAD_XY: 324599.76100 5054628.39700
SECONDARY_SE_QUAD_XY: 324404.86500 5047684.86600
SECONDARY_SW_QUAD_XY: 319527.27000 5047823.60300
RMSE_XY: 2.40000
IMAGE_SOURCE: BLACK AND WHITE FILM
SOURCE_IMAGE_ID: NAPP 3758 100
SOURCE_IMAGE_DATE: 1991 6 15
SOURCE_DEM_DATE: 1997 10 28
AGENCY: WESTERN MAPPING CENTER (WMC)
PRODUCER: USDA FS GEOMETRONICS SERVICE CENTER
PRODUCTION_SYSTEM: DV2.6.3 10/9OV2.4 5/95
COMPRESSION: UNDEFINED
STANDARD_VERSION: 1996 12
METADATA_DATE: 1998 6 26
DATA_FILE_SIZE: 44006112
BYTE_COUNT: 5724
