FILENAME: O4510734.NWS.1006741.tif
QUADRANGLE_NAME: LEMONADE SPRINGS
QUADRANT: NW
WEST_LONGITUDE: -107 52 30.00000
EAST_LONGITUDE: -107 48 45.00000
NORTH_LATITUDE: 45 30 0.00000
SOUTH_LATITUDE: 45 26 15.00000
PRODUCTION_DATE: 1999 4 21
RASTER_ORDER: LEFT_RIGHT/TOP_BOTTOM
BAND_ORGANIZATION: SINGLE FILE
BAND_CONTENT: BLACK&WHITE
BAND_CONTENT: UNDEFINED
BAND_CONTENT: UNDEFINED
BITS_PER_PIXEL: 8
SAMPLES_AND_LINES: 5786 7722
HORIZONTAL_DATUM: NAD83
HORIZONTAL_COORDINATE_SYSTEM: UTM
COORDINATE_ZONE: 13
HORIZONTAL_UNITS: METERS
HORIZONTAL_RESOLUTION: 1.00000
SECONDARY_HORIZONTAL_DATUM: NAD27
XY_ORIGIN: 274785.00000 5042818.00000
SECONDARY_XY_ORIGIN: 274830.45900 5042603.08000
NATION: US
NATION: "SCIENCE
STATE: MT
NW_QUAD_CORNER_XY: 275386.97700 5042517.59500
NE_QUAD_CORNER_XY: 280269.80300 5042344.59800
SE_QUAD_CORNERY_XY: 280026.63700 5035401.19600
SW_QUAD_CORNER_XY: 275138.39900 5035574.20000
SECONDARY_NW_QUAD_XY: 275380.27300 5042300.10700
SECONDARY_NE_QUAD_XY: 280263.24500 5042127.10400
SECONDARY_SE_QUAD_XY: 280020.08100 5035183.75200
SECONDARY_SW_QUAD_XY: 275131.69600 5035356.76100
RMSE_XY: 1.40000
IMAGE_SOURCE: BLACK AND WHITE FILM
SOURCE_IMAGE_ID: NAPP 9139 095
SOURCE_IMAGE_DATE: 1996 08 26
SOURCE_IMAGE_ID: NAPP 9139 097
SOURCE_IMAGE_DATE: 1996 08 26
SOURCE_IMAGE_ID: NAPP 9139 094
SOURCE_IMAGE_DATE: 1996 08 26
SOURCE_IMAGE_ID: NAPP 9132 008
SOURCE_IMAGE_DATE: 1996 07 29
SOURCE_DEM_DATE: 1969 00 00
AGENCY: WESTERN MAPPING CENTER (WMC)
PRODUCER: UNDEFINED
PRODUCTION_SYSTEM: GIS/MAGIC
COMPRESSION: UNDEFINED
STANDARD_VERSION: 1996 12
METADATA_DATE: 1999 05 18
DATA_FILE_SIZE: 44685278
BYTE_COUNT: 5786
