FILENAME: O4510734.NES.1006739.tif
QUADRANGLE_NAME: LEMONADE SPRINGS
QUADRANT: NE
WEST_LONGITUDE: -107 48 45.00000
EAST_LONGITUDE: -107 45 0.00000
NORTH_LATITUDE: 45 30 0.00000
SOUTH_LATITUDE: 45 26 15.00000
PRODUCTION_DATE: 1999 4 21
RASTER_ORDER: LEFT_RIGHT/TOP_BOTTOM
BAND_ORGANIZATION: SINGLE FILE
BAND_CONTENT: BLACK&WHITE
BAND_CONTENT: UNDEFINED
BAND_CONTENT: UNDEFINED
BITS_PER_PIXEL: 8
SAMPLES_AND_LINES: 5781 7718
HORIZONTAL_DATUM: NAD83
HORIZONTAL_COORDINATE_SYSTEM: UTM
COORDINATE_ZONE: 13
HORIZONTAL_UNITS: METERS
HORIZONTAL_RESOLUTION: 1.00000
SECONDARY_HORIZONTAL_DATUM: NAD27
XY_ORIGIN: 279673.00000 5042645.00000
SECONDARY_XY_ORIGIN: 279718.36500 5042429.99400
NATION: US
NATION: "SCIENCE
STATE: MT
NW_QUAD_CORNER_XY: 280269.80300 5042344.59800
NE_QUAD_CORNER_XY: 285152.63300 5042175.40800
SE_QUAD_CORNERY_XY: 284914.88000 5035232.00000
SW_QUAD_CORNER_XY: 280026.63700 5035401.19600
SECONDARY_NW_QUAD_XY: 280263.24500 5042127.10400
SECONDARY_NE_QUAD_XY: 285146.22100 5041957.90900
SECONDARY_SE_QUAD_XY: 284908.46900 5035014.55100
SECONDARY_SW_QUAD_XY: 280020.08100 5035183.75200
RMSE_XY: 1.10000
IMAGE_SOURCE: BLACK AND WHITE FILM
SOURCE_IMAGE_ID: NAPP 9139 092
SOURCE_IMAGE_DATE: 1996 08 26
SOURCE_IMAGE_ID: NAPP 9139 091
SOURCE_IMAGE_DATE: 1996 08 26
SOURCE_IMAGE_ID: NAPP 9131 301
SOURCE_IMAGE_DATE: 1996 07 29
SOURCE_DEM_DATE: 1969 00 00
AGENCY: WESTERN MAPPING CENTER (WMC)
PRODUCER: UNDEFINED
PRODUCTION_SYSTEM: GIS/MAGIC
COMPRESSION: UNDEFINED
STANDARD_VERSION: 1996 12
METADATA_DATE: 1999 05 18
DATA_FILE_SIZE: 44623539
BYTE_COUNT: 5781
