FILENAME: O4510736.NWS.1008803.tif
QUADRANGLE_NAME: SAINT XAVIER NE
QUADRANT: NW
WEST_LONGITUDE: -107 37 30.00000
EAST_LONGITUDE: -107 33 45.00000
NORTH_LATITUDE: 45 30 0.00000
SOUTH_LATITUDE: 45 26 15.00000
PRODUCTION_DATE: 1999 4 21
RASTER_ORDER: LEFT_RIGHT/TOP_BOTTOM
BAND_ORGANIZATION: SINGLE FILE
BAND_CONTENT: BLACK&WHITE
BAND_CONTENT: UNDEFINED
BAND_CONTENT: UNDEFINED
BITS_PER_PIXEL: 8
SAMPLES_AND_LINES: 5764 7706
HORIZONTAL_DATUM: NAD83
HORIZONTAL_COORDINATE_SYSTEM: UTM
COORDINATE_ZONE: 13
HORIZONTAL_UNITS: METERS
HORIZONTAL_RESOLUTION: 1.00000
SECONDARY_HORIZONTAL_DATUM: NAD27
XY_ORIGIN: 294339.00000 5042149.00000
SECONDARY_XY_ORIGIN: 294384.01700 5041933.60800
NATION: US
NATION: "SCIENCE
STATE: MT
NW_QUAD_CORNER_XY: 294918.30700 5041848.45100
NE_QUAD_CORNER_XY: 299801.15100 5041690.68300
SE_QUAD_CORNERY_XY: 299579.62900 5034747.25900
SW_QUAD_CORNER_XY: 294691.37600 5034905.03200
SECONDARY_NW_QUAD_XY: 294912.18600 5041630.94300
SECONDARY_NE_QUAD_XY: 299795.17500 5041473.17000
SECONDARY_SE_QUAD_XY: 299573.65600 5034529.79500
SECONDARY_SW_QUAD_XY: 294685.25700 5034687.57300
RMSE_XY: 2.20000
IMAGE_SOURCE: BLACK AND WHITE FILM
SOURCE_IMAGE_ID: NAPP 9135 107
SOURCE_IMAGE_DATE: 1996 08 19
SOURCE_IMAGE_ID: NAPP 9139 023
SOURCE_IMAGE_DATE: 1996 08 26
SOURCE_IMAGE_ID: NAPP 9135 109
SOURCE_IMAGE_DATE: 1996 08 19
SOURCE_DEM_DATE: 1960 00 00
AGENCY: WESTERN MAPPING CENTER (WMC)
PRODUCER: UNDEFINED
PRODUCTION_SYSTEM: GIS/MAGIC
COMPRESSION: UNDEFINED
STANDARD_VERSION: 1996 12
METADATA_DATE: 1999 06 02
DATA_FILE_SIZE: 44423148
BYTE_COUNT: 5764
