FILENAME: O4510739.NES.1010667.tif
QUADRANGLE_NAME: THOMPSON CREEK NW
QUADRANT: NE
WEST_LONGITUDE: -107 11 15.00000
EAST_LONGITUDE: -107 7 30.00000
NORTH_LATITUDE: 45 30 0.00000
SOUTH_LATITUDE: 45 26 15.00000
PRODUCTION_DATE: 1999 6 8
RASTER_ORDER: LEFT_RIGHT/TOP_BOTTOM
BAND_ORGANIZATION: SINGLE FILE
BAND_CONTENT: BLACK&WHITE
BAND_CONTENT: UNDEFINED
BAND_CONTENT: UNDEFINED
BITS_PER_PIXEL: 8
SAMPLES_AND_LINES: 5725 7679
HORIZONTAL_DATUM: NAD83
HORIZONTAL_COORDINATE_SYSTEM: UTM
COORDINATE_ZONE: 13
HORIZONTAL_UNITS: METERS
HORIZONTAL_RESOLUTION: 1.00000
SECONDARY_HORIZONTAL_DATUM: NAD27
XY_ORIGIN: 328558.00000 5041125.00000
SECONDARY_XY_ORIGIN: 328601.95400 5040908.82500
NATION: US
NATION: "SCIENCE
STATE: MT
NW_QUAD_CORNER_XY: 329098.29000 5040824.00100
NE_QUAD_CORNER_XY: 333981.15900 5040692.87200
SE_QUAD_CORNERY_XY: 333797.49600 5033749.41400
SW_QUAD_CORNER_XY: 328909.22000 5033880.54700
SECONDARY_NW_QUAD_XY: 329093.19000 5040606.46200
SECONDARY_NE_QUAD_XY: 333976.20500 5040475.32900
SECONDARY_SE_QUAD_XY: 333792.54300 5033531.92000
SECONDARY_SW_QUAD_XY: 328904.12100 5033663.05800
RMSE_XY: 1.70000
IMAGE_SOURCE: BLACK AND WHITE FILM
SOURCE_IMAGE_ID: NAPP 9100 062
SOURCE_IMAGE_DATE: 1996 07 14
SOURCE_IMAGE_ID: NAPP 9100 063
SOURCE_IMAGE_DATE: 1996 07 14
SOURCE_IMAGE_ID: NAPP 9099 184
SOURCE_IMAGE_DATE: 1996 07 14
SOURCE_DEM_DATE: 1967 00 00
AGENCY: WESTERN MAPPING CENTER (WMC)
PRODUCER: UNDEFINED
PRODUCTION_SYSTEM: GIS/MAGIC
COMPRESSION: UNDEFINED
STANDARD_VERSION: 1996 12
METADATA_DATE: 1999 06 09
DATA_FILE_SIZE: 43968000
BYTE_COUNT: 5725
