FILENAME: O4510740.SWS.1010682.tif
QUADRANGLE_NAME: THOMPSON CREEK
QUADRANT: SW
WEST_LONGITUDE: -107 7 30.00000
EAST_LONGITUDE: -107 3 45.00000
NORTH_LATITUDE: 45 26 15.00000
SOUTH_LATITUDE: 45 22 30.00000
PRODUCTION_DATE: 1999 6 8
RASTER_ORDER: LEFT_RIGHT/TOP_BOTTOM
BAND_ORGANIZATION: SINGLE FILE
BAND_CONTENT: BLACK&WHITE
BAND_CONTENT: UNDEFINED
BAND_CONTENT: UNDEFINED
BITS_PER_PIXEL: 8
SAMPLES_AND_LINES: 5724 7675
HORIZONTAL_DATUM: NAD83
HORIZONTAL_COORDINATE_SYSTEM: UTM
COORDINATE_ZONE: 13
HORIZONTAL_UNITS: METERS
HORIZONTAL_RESOLUTION: 1.00000
SECONDARY_HORIZONTAL_DATUM: NAD27
XY_ORIGIN: 333263.00000 5034050.00000
SECONDARY_XY_ORIGIN: 333307.04000 5033833.91500
NATION: US
NATION: "SCIENCE
STATE: MT
NW_QUAD_CORNER_XY: 333797.49600 5033749.41400
NE_QUAD_CORNER_XY: 338685.77500 5033622.08400
SE_QUAD_CORNERY_XY: 338507.71200 5026678.68800
SW_QUAD_CORNER_XY: 333614.03300 5026806.02100
SECONDARY_NW_QUAD_XY: 333792.54300 5033531.92000
SECONDARY_NE_QUAD_XY: 338680.96800 5033404.58700
SECONDARY_SE_QUAD_XY: 338502.90600 5026461.24100
SECONDARY_SW_QUAD_XY: 333609.08000 5026588.57800
RMSE_XY: 1.90000
IMAGE_SOURCE: BLACK AND WHITE FILM
SOURCE_IMAGE_ID: NAPP 9099 181
SOURCE_IMAGE_DATE: 1996 07 14
SOURCE_IMAGE_ID: NAPP 9100 063
SOURCE_IMAGE_DATE: 1996 07 14
SOURCE_IMAGE_ID: NAPP 9099 180
SOURCE_IMAGE_DATE: 1996 07 14
SOURCE_IMAGE_ID: NAPP 9099 182
SOURCE_IMAGE_DATE: 1996 07 14
SOURCE_IMAGE_ID: NAPP 9122 017
SOURCE_IMAGE_DATE: 1996 09 11
SOURCE_DEM_DATE: 1987 00 00
AGENCY: WESTERN MAPPING CENTER (WMC)
PRODUCER: UNDEFINED
PRODUCTION_SYSTEM: GIS/MAGIC
COMPRESSION: UNDEFINED
STANDARD_VERSION: 1996 12
METADATA_DATE: 1999 06 09
DATA_FILE_SIZE: 43937424
BYTE_COUNT: 5724
