FILENAME: O4510740.NWS.1010680.tif
QUADRANGLE_NAME: THOMPSON CREEK
QUADRANT: NW
WEST_LONGITUDE: -107 7 30.00000
EAST_LONGITUDE: -107 3 45.00000
NORTH_LATITUDE: 45 30 0.00000
SOUTH_LATITUDE: 45 26 15.00000
PRODUCTION_DATE: 1999 6 8
RASTER_ORDER: LEFT_RIGHT/TOP_BOTTOM
BAND_ORGANIZATION: SINGLE FILE
BAND_CONTENT: BLACK&WHITE
BAND_CONTENT: UNDEFINED
BAND_CONTENT: UNDEFINED
BITS_PER_PIXEL: 8
SAMPLES_AND_LINES: 5719 7675
HORIZONTAL_DATUM: NAD83
HORIZONTAL_COORDINATE_SYSTEM: UTM
COORDINATE_ZONE: 13
HORIZONTAL_UNITS: METERS
HORIZONTAL_RESOLUTION: 1.00000
SECONDARY_HORIZONTAL_DATUM: NAD27
XY_ORIGIN: 333447.00000 5040993.00000
SECONDARY_XY_ORIGIN: 333490.71400 5040776.68300
NATION: US
NATION: "SCIENCE
STATE: MT
NW_QUAD_CORNER_XY: 333981.15900 5040692.87200
NE_QUAD_CORNER_XY: 338864.03200 5040565.54700
SE_QUAD_CORNERY_XY: 338685.77500 5033622.08400
SW_QUAD_CORNER_XY: 333797.49600 5033749.41400
SECONDARY_NW_QUAD_XY: 333976.20500 5040475.32900
SECONDARY_NE_QUAD_XY: 338859.22300 5040348.00000
SECONDARY_SE_QUAD_XY: 338680.96800 5033404.58700
SECONDARY_SW_QUAD_XY: 333792.54300 5033531.92000
RMSE_XY: 2.80000
IMAGE_SOURCE: BLACK AND WHITE FILM
SOURCE_IMAGE_ID: NAPP 9122 015
SOURCE_IMAGE_DATE: 1996 09 11
SOURCE_IMAGE_ID: NAPP 9100 063
SOURCE_IMAGE_DATE: 1996 07 14
SOURCE_IMAGE_ID: NAPP 9100 062
SOURCE_IMAGE_DATE: 1996 07 14
SOURCE_IMAGE_ID: NAPP 9099 182
SOURCE_IMAGE_DATE: 1996 07 14
SOURCE_IMAGE_ID: NAPP 9099 184
SOURCE_IMAGE_DATE: 1996 07 14
SOURCE_DEM_DATE: 1987 00 00
AGENCY: WESTERN MAPPING CENTER (WMC)
PRODUCER: UNDEFINED
PRODUCTION_SYSTEM: GIS/MAGIC
COMPRESSION: UNDEFINED
STANDARD_VERSION: 1996 12
METADATA_DATE: 1999 06 09
DATA_FILE_SIZE: 43899044
BYTE_COUNT: 5719
