FILENAME: O4510741.NWS.927712.tif
QUADRANGLE_NAME: YELLOWTAIL DAM
QUADRANT: NW
WEST_LONGITUDE: -108 0 0.00000
EAST_LONGITUDE: -107 56 15.00000
NORTH_LATITUDE: 45 22 30.00000
SOUTH_LATITUDE: 45 18 45.00000
PRODUCTION_DATE: 1997 12 17
RASTER_ORDER: LEFT_RIGHT/TOP_BOTTOM
BAND_ORGANIZATION: SINGLE FILE
BAND_CONTENT: BLACK&WHITE
BAND_CONTENT: UNDEFINED
BAND_CONTENT: UNDEFINED
BITS_PER_PIXEL: 8
SAMPLES_AND_LINES: 5808 7729
HORIZONTAL_DATUM: NAD83
HORIZONTAL_COORDINATE_SYSTEM: UTM
COORDINATE_ZONE: 13
HORIZONTAL_UNITS: METERS
HORIZONTAL_RESOLUTION: 1.00000
SECONDARY_HORIZONTAL_DATUM: NAD27
XY_ORIGIN: 264490.00000 5029289.00000
SECONDARY_XY_ORIGIN: 264535.59600 5029074.29000
NATION: US
STATE: MT
NW_QUAD_CORNER_XY: 265102.81000 5028988.31000
NE_QUAD_CORNER_XY: 269996.45000 5028807.68000
SE_QUAD_CORNERY_XY: 269743.01000 5021864.40000
SW_QUAD_CORNER_XY: 264843.97000 5022045.03000
SECONDARY_NW_QUAD_XY: 265095.82000 5028770.93000
SECONDARY_NE_QUAD_XY: 269989.60000 5028590.30000
SECONDARY_SE_QUAD_XY: 269736.16000 5021647.07000
SECONDARY_SW_QUAD_XY: 264836.98000 5021827.71000
RMSE_XY: 1.40000
IMAGE_SOURCE: BLACK AND WHITE FILM
SOURCE_IMAGE_ID: NAPP 9151 39
SOURCE_IMAGE_DATE: 1996 9 11
SOURCE_DEM_DATE: 1997 12 17
AGENCY: WESTERN MAPPING CENTER (WMC)
PRODUCER: USDA FS GEOMETRONICS SERVICE CENTER
PRODUCTION_SYSTEM: DV2.6.3 10/9OV2.4 5/95
COMPRESSION: UNDEFINED
STANDARD_VERSION: 1996 12
METADATA_DATE: 1998 6 26
DATA_FILE_SIZE: 44895840
BYTE_COUNT: 5808
