FILENAME: O4510741.NES.927711.tif
QUADRANGLE_NAME: YELLOWTAIL DAM
QUADRANT: NE
WEST_LONGITUDE: -107 56 15.00000
EAST_LONGITUDE: -107 52 30.00000
NORTH_LATITUDE: 45 22 30.00000
SOUTH_LATITUDE: 45 18 45.00000
PRODUCTION_DATE: 1997 12 17
RASTER_ORDER: LEFT_RIGHT/TOP_BOTTOM
BAND_ORGANIZATION: SINGLE FILE
BAND_CONTENT: BLACK&WHITE
BAND_CONTENT: UNDEFINED
BAND_CONTENT: UNDEFINED
BITS_PER_PIXEL: 8
SAMPLES_AND_LINES: 5800 7726
HORIZONTAL_DATUM: NAD83
HORIZONTAL_COORDINATE_SYSTEM: UTM
COORDINATE_ZONE: 13
HORIZONTAL_UNITS: METERS
HORIZONTAL_RESOLUTION: 1.00000
SECONDARY_HORIZONTAL_DATUM: NAD27
XY_ORIGIN: 269390.00000 5029109.00000
SECONDARY_XY_ORIGIN: 269435.00000 5028895.00000
NATION: US
STATE: MT
NW_QUAD_CORNER_XY: 269996.44800 5028807.68000
NE_QUAD_CORNER_XY: 274890.09000 5028630.86200
SE_QUAD_CORNERY_XY: 274642.05000 5021687.58000
SW_QUAD_CORNER_XY: 269743.00700 5021864.40300
SECONDARY_NW_QUAD_XY: 269989.60100 5028590.29600
SECONDARY_NE_QUAD_XY: 274883.38900 5028413.47300
SECONDARY_SE_QUAD_XY: 274635.35100 5021470.24200
SECONDARY_SW_QUAD_XY: 269736.16200 5021647.06900
RMSE_XY: 1.60000
IMAGE_SOURCE: BLACK AND WHITE FILM
SOURCE_IMAGE_ID: NAPP 9139 121
SOURCE_IMAGE_DATE: 1996 8 26
SOURCE_DEM_DATE: 1997 12 17
AGENCY: WESTERN MAPPING CENTER (WMC)
PRODUCER: USDA FS GEOMETRONICS SERVICE CENTER
PRODUCTION_SYSTEM: DV2.6.3 10/9OV2.4 5/95
COMPRESSION: UNDEFINED
STANDARD_VERSION: 1996 12
METADATA_DATE: 1998 6 26
DATA_FILE_SIZE: 44816600
BYTE_COUNT: 5800
