FILENAME: O4510742.SES.1006663.tif
QUADRANGLE_NAME: MOUNTAIN POCKET CREEK
QUADRANT: SE
WEST_LONGITUDE: -107 48 45.00000
EAST_LONGITUDE: -107 45 0.00000
NORTH_LATITUDE: 45 18 45.00000
SOUTH_LATITUDE: 45 15 0.00000
PRODUCTION_DATE: 1999 4 23
RASTER_ORDER: LEFT_RIGHT/TOP_BOTTOM
BAND_ORGANIZATION: SINGLE FILE
BAND_CONTENT: BLACK&WHITE
BAND_CONTENT: UNDEFINED
BAND_CONTENT: UNDEFINED
BITS_PER_PIXEL: 8
SAMPLES_AND_LINES: 5797 7718
HORIZONTAL_DATUM: NAD83
HORIZONTAL_COORDINATE_SYSTEM: UTM
COORDINATE_ZONE: 13
HORIZONTAL_UNITS: METERS
HORIZONTAL_RESOLUTION: 1.00000
SECONDARY_HORIZONTAL_DATUM: NAD27
XY_ORIGIN: 278945.00000 5021815.00000
SECONDARY_XY_ORIGIN: 278990.46200 5021600.18800
NATION: US
NATION: "SCIENCE
STATE: MT
NW_QUAD_CORNER_XY: 279541.09600 5021514.56600
NE_QUAD_CORNER_XY: 284440.14500 5021345.36200
SE_QUAD_CORNERY_XY: 284203.16400 5014402.13000
SW_QUAD_CORNER_XY: 279298.72000 5014571.33900
SECONDARY_NW_QUAD_XY: 279534.54300 5021297.22300
SECONDARY_NE_QUAD_XY: 284433.73700 5021128.01300
SECONDARY_SE_QUAD_XY: 284196.75800 5014184.83300
SECONDARY_SW_QUAD_XY: 279292.16900 5014354.04700
RMSE_XY: 2.70000
IMAGE_SOURCE: BLACK AND WHITE FILM
SOURCE_IMAGE_ID: NAPP 9139 086
SOURCE_IMAGE_DATE: 1996 08 26
SOURCE_IMAGE_ID: NAPP 9139 085
SOURCE_IMAGE_DATE: 1996 08 26
SOURCE_IMAGE_ID: NAPP 9139 067
SOURCE_IMAGE_DATE: 1996 08 26
SOURCE_DEM_DATE: 1980 00 00
AGENCY: WESTERN MAPPING CENTER (WMC)
PRODUCER: UNDEFINED
PRODUCTION_SYSTEM: GIS/MAGIC
COMPRESSION: UNDEFINED
STANDARD_VERSION: 1996 12
METADATA_DATE: 1999 05 18
DATA_FILE_SIZE: 44747043
BYTE_COUNT: 5797
