FILENAME: O4510744.NWS.1008705.tif
QUADRANGLE_NAME: SHICK RANCH
QUADRANT: NW
WEST_LONGITUDE: -107 37 30.00000
EAST_LONGITUDE: -107 33 45.00000
NORTH_LATITUDE: 45 22 30.00000
SOUTH_LATITUDE: 45 18 45.00000
PRODUCTION_DATE: 1999 4 23
RASTER_ORDER: LEFT_RIGHT/TOP_BOTTOM
BAND_ORGANIZATION: SINGLE FILE
BAND_CONTENT: BLACK&WHITE
BAND_CONTENT: UNDEFINED
BAND_CONTENT: UNDEFINED
BITS_PER_PIXEL: 8
SAMPLES_AND_LINES: 5775 7706
HORIZONTAL_DATUM: NAD83
HORIZONTAL_COORDINATE_SYSTEM: UTM
COORDINATE_ZONE: 13
HORIZONTAL_UNITS: METERS
HORIZONTAL_RESOLUTION: 1.00000
SECONDARY_HORIZONTAL_DATUM: NAD27
XY_ORIGIN: 293885.00000 5028262.00000
SECONDARY_XY_ORIGIN: 293930.26700 5028046.87900
NATION: US
NATION: "SCIENCE
STATE: MT
NW_QUAD_CORNER_XY: 294464.69000 5027961.67400
NE_QUAD_CORNER_XY: 299358.34800 5027803.89600
SE_QUAD_CORNERY_XY: 299137.30700 5020860.59400
SW_QUAD_CORNER_XY: 294238.25000 5021018.37500
SECONDARY_NW_QUAD_XY: 294458.57200 5027744.26400
SECONDARY_NE_QUAD_XY: 299352.37600 5027586.48200
SECONDARY_SE_QUAD_XY: 299131.33600 5020643.23000
SECONDARY_SW_QUAD_XY: 294232.13400 5020801.01700
RMSE_XY: 1.70000
IMAGE_SOURCE: BLACK AND WHITE FILM
SOURCE_IMAGE_ID: NAPP 9135 103
SOURCE_IMAGE_DATE: 1996 08 19
SOURCE_IMAGE_ID: NAPP 9135 101
SOURCE_IMAGE_DATE: 1996 08 19
SOURCE_DEM_DATE: 1956 00 00
AGENCY: WESTERN MAPPING CENTER (WMC)
PRODUCER: UNDEFINED
PRODUCTION_SYSTEM: GIS/MAGIC
COMPRESSION: UNDEFINED
STANDARD_VERSION: 1996 12
METADATA_DATE: 1999 06 02
DATA_FILE_SIZE: 44507925
BYTE_COUNT: 5775
