FILENAME: O4510745.NWS.1010749.tif
QUADRANGLE_NAME: GOOD LUCK CREEK
QUADRANT: NW
WEST_LONGITUDE: -107 30 0.00000
EAST_LONGITUDE: -107 26 15.00000
NORTH_LATITUDE: 45 22 30.00000
SOUTH_LATITUDE: 45 18 45.00000
PRODUCTION_DATE: 1999 6 10
RASTER_ORDER: LEFT_RIGHT/TOP_BOTTOM
BAND_ORGANIZATION: SINGLE FILE
BAND_CONTENT: BLACK&WHITE
BAND_CONTENT: UNDEFINED
BAND_CONTENT: UNDEFINED
BITS_PER_PIXEL: 8
SAMPLES_AND_LINES: 5763 7698
HORIZONTAL_DATUM: NAD83
HORIZONTAL_COORDINATE_SYSTEM: UTM
COORDINATE_ZONE: 13
HORIZONTAL_UNITS: METERS
HORIZONTAL_RESOLUTION: 1.00000
SECONDARY_HORIZONTAL_DATUM: NAD27
XY_ORIGIN: 303684.00000 5027950.00000
SECONDARY_XY_ORIGIN: 303729.17400 5027734.69500
NATION: US
NATION: "SCIENCE
STATE: MT
NW_QUAD_CORNER_XY: 304252.00900 5027649.92500
NE_QUAD_CORNER_XY: 309145.67300 5027499.76000
SE_QUAD_CORNERY_XY: 308935.42700 5020556.45000
SW_QUAD_CORNER_XY: 304036.36600 5020706.61900
SECONDARY_NW_QUAD_XY: 304246.18300 5027432.50600
SECONDARY_NE_QUAD_XY: 309139.99200 5027282.33700
SECONDARY_SE_QUAD_XY: 308929.74800 5020339.07800
SECONDARY_SW_QUAD_XY: 304030.54100 5020489.25100
RMSE_XY: 1.80000
IMAGE_SOURCE: BLACK AND WHITE FILM
SOURCE_IMAGE_ID: NAPP 9133 196
SOURCE_IMAGE_DATE: 1996 08 08
SOURCE_IMAGE_ID: NAPP 9133 194
SOURCE_IMAGE_DATE: 1996 08 08
SOURCE_IMAGE_ID: NAPP 9133 198
SOURCE_IMAGE_DATE: 1996 08 08
SOURCE_DEM_DATE: 1966 00 00
AGENCY: WESTERN MAPPING CENTER (WMC)
PRODUCER: UNDEFINED
PRODUCTION_SYSTEM: GIS/MAGIC
COMPRESSION: UNDEFINED
STANDARD_VERSION: 1996 12
METADATA_DATE: 1999 06 15
DATA_FILE_SIZE: 44369337
BYTE_COUNT: 5763
