FILENAME: O4510745.NES.1010748.tif
QUADRANGLE_NAME: GOOD LUCK CREEK
QUADRANT: NE
WEST_LONGITUDE: -107 26 15.00000
EAST_LONGITUDE: -107 22 30.00000
NORTH_LATITUDE: 45 22 30.00000
SOUTH_LATITUDE: 45 18 45.00000
PRODUCTION_DATE: 1999 6 10
RASTER_ORDER: LEFT_RIGHT/TOP_BOTTOM
BAND_ORGANIZATION: SINGLE FILE
BAND_CONTENT: BLACK&WHITE
BAND_CONTENT: UNDEFINED
BAND_CONTENT: UNDEFINED
BITS_PER_PIXEL: 8
SAMPLES_AND_LINES: 5758 7695
HORIZONTAL_DATUM: NAD83
HORIZONTAL_COORDINATE_SYSTEM: UTM
COORDINATE_ZONE: 13
HORIZONTAL_UNITS: METERS
HORIZONTAL_RESOLUTION: 1.00000
SECONDARY_HORIZONTAL_DATUM: NAD27
XY_ORIGIN: 308583.00000 5027800.00000
SECONDARY_XY_ORIGIN: 308628.08300 5027584.63000
NATION: US
NATION: "SCIENCE
STATE: MT
NW_QUAD_CORNER_XY: 309145.67300 5027499.76000
NE_QUAD_CORNER_XY: 314039.33900 5027353.40100
SE_QUAD_CORNERY_XY: 313834.49100 5020410.08800
SW_QUAD_CORNER_XY: 308935.42700 5020556.45000
SECONDARY_NW_QUAD_XY: 309139.99200 5027282.33700
SECONDARY_NE_QUAD_XY: 314033.80500 5027135.97400
SECONDARY_SE_QUAD_XY: 313828.95800 5020192.71200
SECONDARY_SW_QUAD_XY: 308929.74800 5020339.07800
RMSE_XY: 1.30000
IMAGE_SOURCE: BLACK AND WHITE FILM
SOURCE_IMAGE_ID: NAPP 9133 173
SOURCE_IMAGE_DATE: 1996 08 08
SOURCE_IMAGE_ID: NAPP 9133 171
SOURCE_IMAGE_DATE: 1996 08 08
SOURCE_DEM_DATE: 1966 00 00
AGENCY: WESTERN MAPPING CENTER (WMC)
PRODUCER: UNDEFINED
PRODUCTION_SYSTEM: GIS/MAGIC
COMPRESSION: UNDEFINED
STANDARD_VERSION: 1996 12
METADATA_DATE: 1999 06 15
DATA_FILE_SIZE: 44313568
BYTE_COUNT: 5758
