FILENAME: O4510746.NES.1010760.tif
QUADRANGLE_NAME: LODGE GRASS
QUADRANT: NE
WEST_LONGITUDE: -107 18 45.00000
EAST_LONGITUDE: -107 15 0.00000
NORTH_LATITUDE: 45 22 30.00000
SOUTH_LATITUDE: 45 18 45.00000
PRODUCTION_DATE: 1999 6 10
RASTER_ORDER: LEFT_RIGHT/TOP_BOTTOM
BAND_ORGANIZATION: SINGLE FILE
BAND_CONTENT: BLACK&WHITE
BAND_CONTENT: UNDEFINED
BAND_CONTENT: UNDEFINED
BITS_PER_PIXEL: 8
SAMPLES_AND_LINES: 5747 7687
HORIZONTAL_DATUM: NAD83
HORIZONTAL_COORDINATE_SYSTEM: UTM
COORDINATE_ZONE: 13
HORIZONTAL_UNITS: METERS
HORIZONTAL_RESOLUTION: 1.00000
SECONDARY_HORIZONTAL_DATUM: NAD27
XY_ORIGIN: 318381.00000 5027511.00000
SECONDARY_XY_ORIGIN: 318425.90000 5027295.49900
NATION: US
NATION: "SCIENCE
STATE: MT
NW_QUAD_CORNER_XY: 318933.00900 5027210.84800
NE_QUAD_CORNER_XY: 323826.68100 5027072.10100
SE_QUAD_CORNERY_XY: 323632.62500 5020128.78100
SW_QUAD_CORNER_XY: 318733.55700 5020267.53200
SECONDARY_NW_QUAD_XY: 318927.62000 5026993.41700
SECONDARY_NE_QUAD_XY: 323821.43700 5026854.66500
SECONDARY_SE_QUAD_XY: 323627.38300 5019911.39600
SECONDARY_SW_QUAD_XY: 318728.16900 5020050.15100
RMSE_XY: 1.20000
IMAGE_SOURCE: BLACK AND WHITE FILM
SOURCE_IMAGE_ID: NAPP 9126 058
SOURCE_IMAGE_DATE: 1996 07 14
SOURCE_IMAGE_ID: NAPP 9133 049
SOURCE_IMAGE_DATE: 1996 08 08
SOURCE_DEM_DATE: 1966 00 00
AGENCY: WESTERN MAPPING CENTER (WMC)
PRODUCER: UNDEFINED
PRODUCTION_SYSTEM: GIS/MAGIC
COMPRESSION: UNDEFINED
STANDARD_VERSION: 1996 12
METADATA_DATE: 1999 06 15
DATA_FILE_SIZE: 44182936
BYTE_COUNT: 5747
