FILENAME: O4510747.NES.1010764.tif
QUADRANGLE_NAME: WOLF MOUNTAIN LOOKOUT
QUADRANT: NE
WEST_LONGITUDE: -107 11 15.00000
EAST_LONGITUDE: -107 7 30.00000
NORTH_LATITUDE: 45 22 30.00000
SOUTH_LATITUDE: 45 18 45.00000
PRODUCTION_DATE: 1999 6 10
RASTER_ORDER: LEFT_RIGHT/TOP_BOTTOM
BAND_ORGANIZATION: SINGLE FILE
BAND_CONTENT: BLACK&WHITE
BAND_CONTENT: UNDEFINED
BAND_CONTENT: UNDEFINED
BITS_PER_PIXEL: 8
SAMPLES_AND_LINES: 5736 7680
HORIZONTAL_DATUM: NAD83
HORIZONTAL_COORDINATE_SYSTEM: UTM
COORDINATE_ZONE: 13
HORIZONTAL_UNITS: METERS
HORIZONTAL_RESOLUTION: 1.00000
SECONDARY_HORIZONTAL_DATUM: NAD27
XY_ORIGIN: 328180.00000 5027238.00000
SECONDARY_XY_ORIGIN: 328224.59900 5027022.29700
NATION: US
NATION: "SCIENCE
STATE: MT
NW_QUAD_CORNER_XY: 328720.35500 5026937.15900
NE_QUAD_CORNER_XY: 333614.03300 5026806.02100
SE_QUAD_CORNERY_XY: 333430.76800 5019862.69500
SW_QUAD_CORNER_XY: 328531.69500 5019993.83600
SECONDARY_NW_QUAD_XY: 328715.25800 5026719.71900
SECONDARY_NE_QUAD_XY: 333609.08000 5026588.57800
SECONDARY_SE_QUAD_XY: 333425.81700 5019645.30200
SECONDARY_SW_QUAD_XY: 328526.59900 5019776.44700
RMSE_XY: 0.90000
IMAGE_SOURCE: BLACK AND WHITE FILM
SOURCE_IMAGE_ID: NAPP 9100 066
SOURCE_IMAGE_DATE: 1996 07 14
SOURCE_IMAGE_ID: NAPP 9100 067
SOURCE_IMAGE_DATE: 1996 07 14
SOURCE_IMAGE_ID: NAPP 9100 065
SOURCE_IMAGE_DATE: 1996 07 14
SOURCE_IMAGE_ID: NAPP 9099 180
SOURCE_IMAGE_DATE: 1996 07 14
SOURCE_DEM_DATE: 1966 00 00
AGENCY: WESTERN MAPPING CENTER (WMC)
PRODUCER: UNDEFINED
PRODUCTION_SYSTEM: GIS/MAGIC
COMPRESSION: UNDEFINED
STANDARD_VERSION: 1996 12
METADATA_DATE: 1999 06 15
DATA_FILE_SIZE: 44058216
BYTE_COUNT: 5736
