FILENAME: O4510748.SES.1010778.tif
QUADRANGLE_NAME: SPRING CREEK RANCH
QUADRANT: SE
WEST_LONGITUDE: -107 3 45.00000
EAST_LONGITUDE: -107 0 0.00000
NORTH_LATITUDE: 45 18 45.00000
SOUTH_LATITUDE: 45 15 0.00000
PRODUCTION_DATE: 1999 6 10
RASTER_ORDER: LEFT_RIGHT/TOP_BOTTOM
BAND_ORGANIZATION: SINGLE FILE
BAND_CONTENT: BLACK&WHITE
BAND_CONTENT: UNDEFINED
BAND_CONTENT: UNDEFINED
BITS_PER_PIXEL: 8
SAMPLES_AND_LINES: 5729 7672
HORIZONTAL_DATUM: NAD83
HORIZONTAL_COORDINATE_SYSTEM: UTM
COORDINATE_ZONE: 13
HORIZONTAL_UNITS: METERS
HORIZONTAL_RESOLUTION: 1.00000
SECONDARY_HORIZONTAL_DATUM: NAD27
XY_ORIGIN: 337801.00000 5020036.00000
SECONDARY_XY_ORIGIN: 337845.46600 5019820.22900
NATION: US
NATION: "SCIENCE
STATE: MT
NW_QUAD_CORNER_XY: 338329.84200 5019735.35900
NE_QUAD_CORNER_XY: 343228.91800 5019611.82700
SE_QUAD_CORNERY_XY: 343056.63000 5012668.56200
SW_QUAD_CORNER_XY: 338152.16600 5012792.09600
SECONDARY_NW_QUAD_XY: 338325.03700 5019517.96200
SECONDARY_NE_QUAD_XY: 343224.25900 5019394.42700
SECONDARY_SE_QUAD_XY: 343051.97200 5012451.21300
SECONDARY_SW_QUAD_XY: 338147.36200 5012574.75100
RMSE_XY: 1.10000
IMAGE_SOURCE: BLACK AND WHITE FILM
SOURCE_IMAGE_ID: NAPP 9122 020
SOURCE_IMAGE_DATE: 1996 09 11
SOURCE_IMAGE_ID: NAPP 9099 151
SOURCE_IMAGE_DATE: 1996 07 14
SOURCE_IMAGE_ID: NAPP 9122 019
SOURCE_IMAGE_DATE: 1996 09 11
SOURCE_IMAGE_ID: NAPP 9099 022
SOURCE_IMAGE_DATE: 1996 07 14
SOURCE_DEM_DATE: 1966 00 00
AGENCY: WESTERN MAPPING CENTER (WMC)
PRODUCER: UNDEFINED
PRODUCTION_SYSTEM: GIS/MAGIC
COMPRESSION: UNDEFINED
STANDARD_VERSION: 1996 12
METADATA_DATE: 1999 06 15
DATA_FILE_SIZE: 43958617
BYTE_COUNT: 5729
