FILENAME: O4510749.SWS.927718.tif
QUADRANGLE_NAME: PEYOTE POINT
QUADRANT: SW
WEST_LONGITUDE: -108 0 0.00000
EAST_LONGITUDE: -107 56 15.00000
NORTH_LATITUDE: 45 11 15.00000
SOUTH_LATITUDE: 45 7 30.00000
PRODUCTION_DATE: 1997 12 18
RASTER_ORDER: LEFT_RIGHT/TOP_BOTTOM
BAND_ORGANIZATION: SINGLE FILE
BAND_CONTENT: BLACK&WHITE
BAND_CONTENT: UNDEFINED
BAND_CONTENT: UNDEFINED
BITS_PER_PIXEL: 8
SAMPLES_AND_LINES: 5821 7731
HORIZONTAL_DATUM: NAD83
HORIZONTAL_COORDINATE_SYSTEM: UTM
COORDINATE_ZONE: 13
HORIZONTAL_UNITS: METERS
HORIZONTAL_RESOLUTION: 1.00000
SECONDARY_HORIZONTAL_DATUM: NAD27
XY_ORIGIN: 263716.00000 5008464.00000
SECONDARY_XY_ORIGIN: 263761.52000 5008249.42000
NATION: US
STATE: MT
NW_QUAD_CORNER_XY: 264327.19000 5008158.61000
NE_QUAD_CORNER_XY: 269237.01000 5007977.98000
SE_QUAD_CORNERY_XY: 268984.40000 5001034.87000
SW_QUAD_CORNER_XY: 264069.19000 5001215.51000
SECONDARY_NW_QUAD_XY: 264320.20000 5007941.39000
SECONDARY_NE_QUAD_XY: 269230.17000 5007760.75000
SECONDARY_SE_QUAD_XY: 268977.56000 5000817.69000
SECONDARY_SW_QUAD_XY: 264062.20000 5000998.34000
RMSE_XY: 2.80000
IMAGE_SOURCE: BLACK AND WHITE FILM
SOURCE_IMAGE_ID: NAPP 9151 45
SOURCE_IMAGE_DATE: 1996 9 11
SOURCE_IMAGE_ID: NAPP 9151 43
SOURCE_IMAGE_DATE: 1996 9 11
SOURCE_DEM_DATE: 1997 12 18
AGENCY: WESTERN MAPPING CENTER (WMC)
PRODUCER: USDA FS GEOMETRONICS SERVICE CENTER
PRODUCTION_SYSTEM: DV2.6.3 10/9OV2.4 5/95
COMPRESSION: UNDEFINED
STANDARD_VERSION: 1996 12
METADATA_DATE: 1998 6 26
DATA_FILE_SIZE: 45007972
BYTE_COUNT: 5821
