FILENAME: O4510750.SES.1006671.tif
QUADRANGLE_NAME: LIMESTONE CANYON
QUADRANT: SE
WEST_LONGITUDE: -107 48 45.00000
EAST_LONGITUDE: -107 45 0.00000
NORTH_LATITUDE: 45 11 15.00000
SOUTH_LATITUDE: 45 7 30.00000
PRODUCTION_DATE: 1999 4 27
RASTER_ORDER: LEFT_RIGHT/TOP_BOTTOM
BAND_ORGANIZATION: SINGLE FILE
BAND_CONTENT: BLACK&WHITE
BAND_CONTENT: UNDEFINED
BAND_CONTENT: UNDEFINED
BITS_PER_PIXEL: 8
SAMPLES_AND_LINES: 5807 7718
HORIZONTAL_DATUM: NAD83
HORIZONTAL_COORDINATE_SYSTEM: UTM
COORDINATE_ZONE: 13
HORIZONTAL_UNITS: METERS
HORIZONTAL_RESOLUTION: 1.00000
SECONDARY_HORIZONTAL_DATUM: NAD27
XY_ORIGIN: 278461.00000 5007929.00000
SECONDARY_XY_ORIGIN: 278506.47100 5007714.27800
NATION: US
NATION: "SCIENCE
STATE: MT
NW_QUAD_CORNER_XY: 279056.60900 5007628.16900
NE_QUAD_CORNER_XY: 283966.44100 5007458.95800
SE_QUAD_CORNERY_XY: 283729.97600 5000515.84400
SW_QUAD_CORNER_XY: 278814.76200 5000685.05700
SECONDARY_NW_QUAD_XY: 279050.06000 5007410.92900
SECONDARY_NE_QUAD_XY: 283960.03700 5007241.71300
SECONDARY_SE_QUAD_XY: 283723.57400 5000298.65300
SECONDARY_SW_QUAD_XY: 278808.21400 5000467.87100
RMSE_XY: 2.20000
IMAGE_SOURCE: BLACK AND WHITE FILM
SOURCE_IMAGE_ID: NAPP 9139 082
SOURCE_IMAGE_DATE: 1996 08 26
SOURCE_IMAGE_ID: NAPP 9139 081
SOURCE_IMAGE_DATE: 1996 08 26
SOURCE_IMAGE_ID: NAPP 9139 083
SOURCE_IMAGE_DATE: 1996 08 26
SOURCE_DEM_DATE: 1969 00 00
AGENCY: WESTERN MAPPING CENTER (WMC)
PRODUCER: UNDEFINED
PRODUCTION_SYSTEM: GIS/MAGIC
COMPRESSION: UNDEFINED
STANDARD_VERSION: 1996 12
METADATA_DATE: 1999 05 18
DATA_FILE_SIZE: 44824233
BYTE_COUNT: 5807
