FILENAME: O4510754.SES.1010352.tif
QUADRANGLE_NAME: WYOLA NE
QUADRANT: SE
WEST_LONGITUDE: -107 18 45.00000
EAST_LONGITUDE: -107 15 0.00000
NORTH_LATITUDE: 45 11 15.00000
SOUTH_LATITUDE: 45 7 30.00000
PRODUCTION_DATE: 1999 6 2
RASTER_ORDER: LEFT_RIGHT/TOP_BOTTOM
BAND_ORGANIZATION: SINGLE FILE
BAND_CONTENT: BLACK&WHITE
BAND_CONTENT: UNDEFINED
BAND_CONTENT: UNDEFINED
BITS_PER_PIXEL: 8
SAMPLES_AND_LINES: 5763 7687
HORIZONTAL_DATUM: NAD83
HORIZONTAL_COORDINATE_SYSTEM: UTM
COORDINATE_ZONE: 13
HORIZONTAL_UNITS: METERS
HORIZONTAL_RESOLUTION: 1.00000
SECONDARY_HORIZONTAL_DATUM: NAD27
XY_ORIGIN: 317784.00000 5006682.00000
SECONDARY_XY_ORIGIN: 317829.43000 5006466.97000
NATION: US
NATION: "SCIENCE
STATE: MT
NW_QUAD_CORNER_XY: 318335.30400 5006381.09000
NE_QUAD_CORNER_XY: 323245.14700 5006242.33500
SE_QUAD_CORNERY_XY: 323051.72500 4999299.20900
SW_QUAD_CORNER_XY: 318136.50400 4999437.96600
SECONDARY_NW_QUAD_XY: 318329.91900 5006163.81400
SECONDARY_NE_QUAD_XY: 323239.90800 5006025.05400
SECONDARY_SE_QUAD_XY: 323046.48800 4999081.98100
SECONDARY_SW_QUAD_XY: 318131.12100 4999220.74200
RMSE_XY: 3.10000
IMAGE_SOURCE: BLACK AND WHITE FILM
SOURCE_IMAGE_ID: NAPP 9126 064
SOURCE_IMAGE_DATE: 1996 07 14
SOURCE_IMAGE_ID: NAPP 9133 012
SOURCE_IMAGE_DATE: 1996 08 08
SOURCE_IMAGE_ID: NAPP 9126 063
SOURCE_IMAGE_DATE: 1996 07 14
SOURCE_IMAGE_ID: NAPP 9098 017
SOURCE_IMAGE_DATE: 1996 07 14
SOURCE_DEM_DATE: 1966 00 00
AGENCY: WESTERN MAPPING CENTER (WMC)
PRODUCER: UNDEFINED
PRODUCTION_SYSTEM: GIS/MAGIC
COMPRESSION: UNDEFINED
STANDARD_VERSION: 1996 12
METADATA_DATE: 1999 06 14
DATA_FILE_SIZE: 44305944
BYTE_COUNT: 5763
