FILENAME: O4510754.NES.1010350.tif
QUADRANGLE_NAME: WYOLA NE
QUADRANT: NE
WEST_LONGITUDE: -107 18 45.00000
EAST_LONGITUDE: -107 15 0.00000
NORTH_LATITUDE: 45 15 0.00000
SOUTH_LATITUDE: 45 11 15.00000
PRODUCTION_DATE: 1999 6 2
RASTER_ORDER: LEFT_RIGHT/TOP_BOTTOM
BAND_ORGANIZATION: SINGLE FILE
BAND_CONTENT: BLACK&WHITE
BAND_CONTENT: UNDEFINED
BAND_CONTENT: UNDEFINED
BITS_PER_PIXEL: 8
SAMPLES_AND_LINES: 5757 7687
HORIZONTAL_DATUM: NAD83
HORIZONTAL_COORDINATE_SYSTEM: UTM
COORDINATE_ZONE: 13
HORIZONTAL_UNITS: METERS
HORIZONTAL_RESOLUTION: 1.00000
SECONDARY_HORIZONTAL_DATUM: NAD27
XY_ORIGIN: 317983.00000 5013625.00000
SECONDARY_XY_ORIGIN: 318028.50100 5013409.97100
NATION: US
NATION: "SCIENCE
STATE: MT
NW_QUAD_CORNER_XY: 318534.32200 5013324.27900
NE_QUAD_CORNER_XY: 323438.78000 5013185.52600
SE_QUAD_CORNERY_XY: 323245.14700 5006242.33500
SW_QUAD_CORNER_XY: 318335.30400 5006381.09000
SECONDARY_NW_QUAD_XY: 318528.93600 5013106.95000
SECONDARY_NE_QUAD_XY: 323433.54000 5012968.19300
SECONDARY_SE_QUAD_XY: 323239.90800 5006025.05400
SECONDARY_SW_QUAD_XY: 318329.91900 5006163.81400
RMSE_XY: 3.00000
IMAGE_SOURCE: BLACK AND WHITE FILM
SOURCE_IMAGE_ID: NAPP 9126 062
SOURCE_IMAGE_DATE: 1996 07 14
SOURCE_IMAGE_ID: NAPP 9126 061
SOURCE_IMAGE_DATE: 1996 07 14
SOURCE_IMAGE_ID: NAPP 9098 021
SOURCE_IMAGE_DATE: 1996 07 14
SOURCE_DEM_DATE: 1966 00 00
AGENCY: WESTERN MAPPING CENTER (WMC)
PRODUCER: UNDEFINED
PRODUCTION_SYSTEM: GIS/MAGIC
COMPRESSION: UNDEFINED
STANDARD_VERSION: 1996 12
METADATA_DATE: 1999 06 14
DATA_FILE_SIZE: 44259816
BYTE_COUNT: 5757
