FILENAME: O4510758.NES.1050862.tif
QUADRANGLE_NAME: Red Springs
QUADRANT: NE
WEST_LONGITUDE: -107 48 45.00000
EAST_LONGITUDE: -107 45 0.00000
NORTH_LATITUDE: 45 7 30.00000
SOUTH_LATITUDE: 45 3 45.00000
PRODUCTION_DATE: 2000 2 24
RASTER_ORDER: LEFT_RIGHT/TOP_BOTTOM
BAND_ORGANIZATION: SINGLE FILE
BAND_CONTENT: BLACK&WHITE
BAND_CONTENT: UNDEFINED
BAND_CONTENT: UNDEFINED
BITS_PER_PIXEL: 8
SAMPLES_AND_LINES: 5809 7715
HORIZONTAL_DATUM: NAD83
HORIZONTAL_COORDINATE_SYSTEM: UTM
COORDINATE_ZONE: 13
HORIZONTAL_UNITS: meters
HORIZONTAL_RESOLUTION: 1.00000
SECONDARY_HORIZONTAL_DATUM: NAD27
XY_ORIGIN: 278221.74000 5000984.56000
SECONDARY_XY_ORIGIN: 278267.17600 5000769.84000
NATION: US
STATE: MT
NW_QUAD_CORNER_XY: 278814.76200 5000685.05800
NE_QUAD_CORNER_XY: 283729.97600 5000515.84500
SE_QUAD_CORNERY_XY: 283493.77100 4993572.79000
SW_QUAD_CORNER_XY: 278573.17900 4993742.00400
SECONDARY_NW_QUAD_XY: 278808.21400 5000467.87200
SECONDARY_NE_QUAD_XY: 283723.57400 5000298.65400
SECONDARY_SE_QUAD_XY: 283487.37000 4993355.65300
SECONDARY_SW_QUAD_XY: 278566.63400 4993524.87200
RMSE_XY: 3.01000
IMAGE_SOURCE: BLACK & WHITE FILM
SOURCE_IMAGE_ID: NAPP 11011 011
SOURCE_IMAGE_DATE: 1998 8 21
SOURCE_IMAGE_ID: NAPP 11011 009
SOURCE_IMAGE_DATE: 1998 8 21
SOURCE_IMAGE_ID: NAPP 11011 008
SOURCE_IMAGE_DATE: 1998 8 21
SOURCE_IMAGE_ID: NAPP 11011 007
SOURCE_IMAGE_DATE: 1998 8 21
SOURCE_IMAGE_ID: NAPP 11011 012
SOURCE_IMAGE_DATE: 1998 8 21
SOURCE_DEM_DATE: 1968 1 1
AGENCY: ROCKY MOUNTAIN MAPPING CENTER (RMMC)
PRODUCER: ROCKY MOUNTAIN MAPPING CENTER (RMMC)
PRODUCTION_SYSTEM: ImageStation OrthoPro 02.02.01.06
COMPRESSION: UNDEFINED
STANDARD_VERSION: 1996 12
METADATA_DATE: 2000 2 24
DATA_FILE_SIZE: 44822244
BYTE_COUNT: 5809
