FILENAME: O4510760.NWS.1008713.tif
QUADRANGLE_NAME: BLACK GULCH
QUADRANT: NW
WEST_LONGITUDE: -107 37 30.00000
EAST_LONGITUDE: -107 33 45.00000
NORTH_LATITUDE: 45 7 30.00000
SOUTH_LATITUDE: 45 3 45.00000
PRODUCTION_DATE: 1999 4 27
RASTER_ORDER: LEFT_RIGHT/TOP_BOTTOM
BAND_ORGANIZATION: SINGLE FILE
BAND_CONTENT: BLACK&WHITE
BAND_CONTENT: UNDEFINED
BAND_CONTENT: UNDEFINED
BITS_PER_PIXEL: 8
SAMPLES_AND_LINES: 5795 7706
HORIZONTAL_DATUM: NAD83
HORIZONTAL_COORDINATE_SYSTEM: UTM
COORDINATE_ZONE: 13
HORIZONTAL_UNITS: METERS
HORIZONTAL_RESOLUTION: 1.00000
SECONDARY_HORIZONTAL_DATUM: NAD27
XY_ORIGIN: 292982.00000 5000489.00000
SECONDARY_XY_ORIGIN: 293027.43500 5000274.14200
NATION: US
NATION: "SCIENCE
STATE: MT
NW_QUAD_CORNER_XY: 293560.40800 5000188.84300
NE_QUAD_CORNER_XY: 298475.62600 5000031.05400
SE_QUAD_CORNERY_XY: 298255.54700 4993087.99600
SW_QUAD_CORNER_XY: 293334.95500 4993245.78600
SECONDARY_NW_QUAD_XY: 293554.29700 4999971.64200
SECONDARY_NE_QUAD_XY: 298469.66000 4999813.84800
SECONDARY_SE_QUAD_XY: 298249.58400 4992870.84500
SECONDARY_SW_QUAD_XY: 293328.84500 4993028.64000
RMSE_XY: 2.20000
IMAGE_SOURCE: BLACK AND WHITE FILM
SOURCE_IMAGE_ID: NAPP 9155 017
SOURCE_IMAGE_DATE: 1997 08 30
SOURCE_IMAGE_ID: NAPP 9155 016
SOURCE_IMAGE_DATE: 1997 08 30
SOURCE_IMAGE_ID: NAPP 9155 018
SOURCE_IMAGE_DATE: 1997 08 30
SOURCE_DEM_DATE: 1969 00 00
AGENCY: WESTERN MAPPING CENTER (WMC)
PRODUCER: UNDEFINED
PRODUCTION_SYSTEM: GIS/MAGIC
COMPRESSION: UNDEFINED
STANDARD_VERSION: 1996 12
METADATA_DATE: 1999 06 02
DATA_FILE_SIZE: 44662065
BYTE_COUNT: 5795
