FILENAME: O4510762.NES.1010756.tif
QUADRANGLE_NAME: PASS CREEK EAST
QUADRANT: NE
WEST_LONGITUDE: -107 18 45.00000
EAST_LONGITUDE: -107 15 0.00000
NORTH_LATITUDE: 45 7 30.00000
SOUTH_LATITUDE: 45 3 45.00000
PRODUCTION_DATE: 1999 6 11
RASTER_ORDER: LEFT_RIGHT/TOP_BOTTOM
BAND_ORGANIZATION: SINGLE FILE
BAND_CONTENT: BLACK&WHITE
BAND_CONTENT: UNDEFINED
BAND_CONTENT: UNDEFINED
BITS_PER_PIXEL: 8
SAMPLES_AND_LINES: 5767 7686
HORIZONTAL_DATUM: NAD83
HORIZONTAL_COORDINATE_SYSTEM: UTM
COORDINATE_ZONE: 13
HORIZONTAL_UNITS: METERS
HORIZONTAL_RESOLUTION: 1.00000
SECONDARY_HORIZONTAL_DATUM: NAD27
XY_ORIGIN: 317586.00000 4999738.00000
SECONDARY_XY_ORIGIN: 317631.35900 4999522.97000
NATION: US
NATION: "SCIENCE
STATE: MT
NW_QUAD_CORNER_XY: 318136.50400 4999437.96600
NE_QUAD_CORNER_XY: 323051.72500 4999299.20900
SE_QUAD_CORNERY_XY: 322858.51500 4992356.14700
SW_QUAD_CORNER_XY: 317937.92100 4992494.90500
SECONDARY_NW_QUAD_XY: 318131.12100 4999220.74200
SECONDARY_NE_QUAD_XY: 323046.48800 4999081.98100
SECONDARY_SE_QUAD_XY: 322853.27900 4992138.97400
SECONDARY_SW_QUAD_XY: 317932.53900 4992277.73600
RMSE_XY: 2.70000
IMAGE_SOURCE: BLACK AND WHITE FILM
SOURCE_IMAGE_ID: NAPP 9126 066
SOURCE_IMAGE_DATE: 1996 07 14
SOURCE_IMAGE_ID: NAPP 9133 040
SOURCE_IMAGE_DATE: 1996 08 08
SOURCE_IMAGE_ID: NAPP 9126 067
SOURCE_IMAGE_DATE: 1996 07 14
SOURCE_IMAGE_ID: NAPP 9126 065
SOURCE_IMAGE_DATE: 1996 07 14
SOURCE_DEM_DATE: 1967 00 00
AGENCY: WESTERN MAPPING CENTER (WMC)
PRODUCER: UNDEFINED
PRODUCTION_SYSTEM: GIS/MAGIC
COMPRESSION: UNDEFINED
STANDARD_VERSION: 1996 12
METADATA_DATE: 1999 06 15
DATA_FILE_SIZE: 44330929
BYTE_COUNT: 5767
